BEGIN:VCALENDAR
VERSION:2.0
PRODID:-//ChamberMaster//Event Calendar 2.0//EN
METHOD:PUBLISH
X-PUBLISHED-TTL:P3D
REFRESH-INTERVAL:P3D
CALSCALE:GREGORIAN
BEGIN:VEVENT
DTSTART:20190416T191000Z
DTEND:20190416T200000Z
X-MICROSOFT-CDO-ALLDAYEVENT:FALSE
SUMMARY:Business Estate Planning
DESCRIPTION:What are the elements of Business estate planning? Estate planning for a business is just as important as estate planning for an individual. It is the act of preparing for the maximum transfer of wealth and assets during life and at death in the most tax efficient manner possible. Speaker Ken Mattson\, CW SCORE\, Chapter Chair April 16th Lunch and Learn 12:10 PM to 1 PM at the WorkSpace conference room.
X-ALT-DESC;FMTTYPE=text/html:What are the elements of Business estate planning? Estate planning for a business is just as important as estate planning for an individual. It is the act of preparing for the maximum transfer of wealth and assets during life and at death in the most tax efficient manner possible. Speaker Ken Mattson\, CW SCORE\, Chapter Chair April 16th Lunch and Learn 12:10 PM to 1 PM at the WorkSpace conference room.
LOCATION:1737 N Wenatchee Ave
UID:e.289.7231
SEQUENCE:3
DTSTAMP:20260425T214803Z
URL:https://business.wenatchee.org/events/details/business-estate-planning-7231
END:VEVENT

END:VCALENDAR
