BEGIN:VCALENDAR
VERSION:2.0
PRODID:-//ChamberMaster//Event Calendar 2.0//EN
METHOD:PUBLISH
X-PUBLISHED-TTL:P3D
REFRESH-INTERVAL:P3D
CALSCALE:GREGORIAN
BEGIN:VEVENT
DTSTART:20220329T190000Z
DTEND:20220329T193000Z
X-MICROSOFT-CDO-ALLDAYEVENT:FALSE
SUMMARY:Business Bytes
DESCRIPTION:Business Bytes Triple Point NCW LGBTQ+ Anti Stigma Training with Luz Estrada Gonzalez March 29 | 12:00 - 12:30 | Zoom Webinar NCW Tech Alliance is bringing back our Member Only classes. Business Bytes is a bite-size webinar to teach you about a tool or resource you and your business could use. Join us for Business Bytes to find out about exciting new tech and digital tools to help you grow\, maintain or improve your business or startup project. In March we bring you Luz Estrada Gonzalez from The Triple Point NCW program. housed within the Children's Home Society of Washington\, this program serves our region's LGBTQ+ youth ages 12-18 with weekly virtual support group counseling at no cost and offers Creating Safe Spaces Training for schools and organizations.
X-ALT-DESC;FMTTYPE=text/html:Business Bytes Triple Point NCW LGBTQ+ Anti Stigma Training with Luz Estrada Gonzalez March 29 | 12:00 - 12:30 | Zoom Webinar NCW Tech Alliance is bringing back our Member Only classes. Business Bytes is a bite-size webinar to teach you about a tool or resource you and your business could use. Join us for Business Bytes to find out about exciting new tech and digital tools to help you grow\, maintain or improve your business or startup project. In March we bring you Luz Estrada Gonzalez from The Triple Point NCW program. housed within the Children&rsquo\;s Home Society of Washington\, this program serves our region&#39\;s LGBTQ+ youth ages 12-18 with weekly virtual support group counseling at no cost and offers Creating Safe Spaces Training for schools and organizations.
LOCATION:Zoom Webinar
UID:e.289.7997
SEQUENCE:3
DTSTAMP:20260424T234554Z
URL:https://business.wenatchee.org/events/details/business-bytes-7997
END:VEVENT

END:VCALENDAR
