BEGIN:VCALENDAR
VERSION:2.0
PRODID:-//ChamberMaster//Event Calendar 2.0//EN
METHOD:PUBLISH
X-PUBLISHED-TTL:P3D
REFRESH-INTERVAL:P3D
CALSCALE:GREGORIAN
BEGIN:VEVENT
DTSTART:20200529T000000Z
DTEND:20200529T010000Z
X-MICROSOFT-CDO-ALLDAYEVENT:FALSE
SUMMARY:Business After Hours - ZOOM
DESCRIPTION:Our networking event is back and it's virtual! Join us on Zoom\, bring your drinks while we mingle and play some trivia hosted by Jessica\, with Escape Room Tactics! We hope to see you there!\n\n\n\nThis event is free\, register to receive Zoom information to join.
X-ALT-DESC;FMTTYPE=text/html:<span style="color: rgb(29\, 33\, 41)\; font-family: Helvetica\, Arial\, sans-serif\; font-size: 14px\; white-space: pre-wrap\; background-color: rgb(255\, 255\, 255)\;">Our networking event is back and it&#39\;s virtual! Join us on Zoom\, bring your drinks while we mingle and play some trivia hosted by Jessica\, with Escape Room Tactics! We hope to see you there!</span><br style="color: rgb(29\, 33\, 41)\; font-family: Helvetica\, Arial\, sans-serif\; font-size: 14px\; white-space: pre-wrap\; background-color: rgb(255\, 255\, 255)\;" />\n<br style="color: rgb(29\, 33\, 41)\; font-family: Helvetica\, Arial\, sans-serif\; font-size: 14px\; white-space: pre-wrap\; background-color: rgb(255\, 255\, 255)\;" />\n<span style="color: rgb(29\, 33\, 41)\; font-family: Helvetica\, Arial\, sans-serif\; font-size: 14px\; white-space: pre-wrap\; background-color: rgb(255\, 255\, 255)\;">This event is free\, register to receive Zoom information to join.</span>
LOCATION:Zoom meeting
UID:e.289.7714
SEQUENCE:3
DTSTAMP:20260425T001455Z
URL:https://business.wenatchee.org/events/details/business-after-hours-zoom-7714
END:VEVENT

END:VCALENDAR
