BEGIN:VCALENDAR
VERSION:2.0
PRODID:-//ChamberMaster//Event Calendar 2.0//EN
METHOD:PUBLISH
X-PUBLISHED-TTL:P3D
REFRESH-INTERVAL:P3D
CALSCALE:GREGORIAN
BEGIN:VEVENT
DTSTART:20201120T000000Z
DTEND:20201120T010000Z
X-MICROSOFT-CDO-ALLDAYEVENT:FALSE
SUMMARY:Business After Hours - The Wenatchee World
DESCRIPTION:Save the date! Our FREE monthly networking event is coming back via Zoom this month and will be hosted by The Wenatchee World. Join us for networking\, fun activities and GIVEAWAYS!
X-ALT-DESC;FMTTYPE=text/html:Save the date! Our FREE monthly networking event is coming back via Zoom this month and will be hosted by The Wenatchee World. Join us for networking\, fun activities and GIVEAWAYS!
LOCATION:ZOOM - register online at wenatchee.org/events/calendar to receive the link to join in the fun!
UID:e.289.7773
SEQUENCE:3
DTSTAMP:20260424T140813Z
URL:https://business.wenatchee.org/events/details/business-after-hours-the-wenatchee-world-7773
END:VEVENT

END:VCALENDAR
