BEGIN:VCALENDAR
VERSION:2.0
PRODID:-//ChamberMaster//Event Calendar 2.0//EN
METHOD:PUBLISH
X-PUBLISHED-TTL:P3D
REFRESH-INTERVAL:P3D
CALSCALE:GREGORIAN
BEGIN:VEVENT
DTSTART:20190426T000000Z
DTEND:20190426T020000Z
X-MICROSOFT-CDO-ALLDAYEVENT:FALSE
SUMMARY:Business After Hours - SAGE
DESCRIPTION:Join us for an evening of netwroking at our 2017 non-profit of the year winner\, SAGE  Come learn about this amazing organziation and how we can help share their message. As always this event is FREE so please bring a friend! Snacks\, refreshments and door prizes are just a few of the highlights that you can look forward to. More importantly they do such good work in the Valley.
X-ALT-DESC;FMTTYPE=text/html:Join us for an evening of netwroking at our 2017 non-profit of the year winner\, SAGE&gt\; Come learn about this amazing organziation and how we can help share their message. As always this event is FREE so please bring a friend! Snacks\, refreshments and door prizes are just a few of the highlights that you can look forward to. More importantly they do such good work in the Valley.&nbsp\;
LOCATION:710 N. Chelan Avenue\, Wenatchee
UID:e.289.7222
SEQUENCE:3
DTSTAMP:20260425T214003Z
URL:https://business.wenatchee.org/events/details/business-after-hours-sage-04-25-2019-7222
END:VEVENT

END:VCALENDAR
