BEGIN:VCALENDAR
VERSION:2.0
PRODID:-//ChamberMaster//Event Calendar 2.0//EN
METHOD:PUBLISH
X-PUBLISHED-TTL:P3D
REFRESH-INTERVAL:P3D
CALSCALE:GREGORIAN
BEGIN:VEVENT
DTSTART:20071025T000000Z
DTEND:20071025T020000Z
X-MICROSOFT-CDO-ALLDAYEVENT:FALSE
SUMMARY:Business After Hours-October
DESCRIPTION:Sponsored byWaMuWashington Mutual invites you to come and meet their Wenatchee and East Wenatchee Team for snacks\, beverages\, and door prizes.Don't forget your business cards!
X-ALT-DESC;FMTTYPE=text/html:<p align="center">&nbsp\;</p><p align="center"><font face="Verdana" size="4">Sponsored by</font></p><p align="center"><font face="Verdana" size="4"><strong>WaMu</strong></font></p><p align="center"><font face="Verdana" size="4">Washington Mutual invites you to come and meet their Wenatchee and East Wenatchee Team for snacks\, beverages\, and door prizes.</font></p><p align="center"><font face="Verdana" size="4">Don&rsquo\;t forget your business cards!</font></p>
LOCATION:WaMu-Washingon Mutual30 South MissionWenatchee
UID:e.289.29
SEQUENCE:3
DTSTAMP:20260420T044333Z
URL:https://business.wenatchee.org/events/details/business-after-hours-october-10-24-2007-29
END:VEVENT

END:VCALENDAR
