BEGIN:VCALENDAR
VERSION:2.0
PRODID:-//ChamberMaster//Event Calendar 2.0//EN
METHOD:PUBLISH
X-PUBLISHED-TTL:P3D
REFRESH-INTERVAL:P3D
CALSCALE:GREGORIAN
BEGIN:VEVENT
DTSTART:20200731T000000Z
DTEND:20200731T013000Z
X-MICROSOFT-CDO-ALLDAYEVENT:FALSE
SUMMARY:Business After Hours: Hosted by The Wenatchee Convention Center
DESCRIPTION:Safe the date! Our FREE monthly networking event is coming back via zoom this month. We will have more information on our Facebook page and website coming soon! Registration information & event details coming to: www.wenatchee.org
X-ALT-DESC;FMTTYPE=text/html:<p>Safe the date! Our FREE monthly networking event is coming back via zoom this month. We will have more information on our Facebook page and website coming soon! Registration information &amp\; event details coming to: <a href="http://www.wenatchee.org/">www.wenatchee.org</a></p>\n
LOCATION:Zoom
UID:e.289.7724
SEQUENCE:3
DTSTAMP:20260424T223220Z
URL:https://business.wenatchee.org/events/details/business-after-hours-hosted-by-the-wenatchee-convention-center-7724
END:VEVENT

END:VCALENDAR
