BEGIN:VCALENDAR
VERSION:2.0
PRODID:-//ChamberMaster//Event Calendar 2.0//EN
METHOD:PUBLISH
X-PUBLISHED-TTL:P3D
REFRESH-INTERVAL:P3D
CALSCALE:GREGORIAN
BEGIN:VEVENT
DTSTART:20220325T000000Z
DTEND:20220325T020000Z
X-MICROSOFT-CDO-ALLDAYEVENT:FALSE
SUMMARY:Business After Hours at Wenatchee Valley College
DESCRIPTION:Join us on the Wenatchee Valley College Campus to checkout and explore their new building: Mish ee twie. Learn about the namesake of the building and how WVC Foundation is building a bright future for education in North Central Washington.\n\n\n\nThis event is FREE\, please register to attend.
X-ALT-DESC;FMTTYPE=text/html:<br />\n<span style="font-size:14px\;"><span style="font-family:verdana\;">Join us on the Wenatchee Valley College Campus to checkout and explore their new building: Mish ee twie. Learn about the namesake of the building and how WVC Foundation is building a bright future for education in North Central Washington.<br />\n<br />\nThis event is FREE\, please register to attend.</span></span>
LOCATION:1300 Fifth St. Wenatchee\, WA 98801
UID:e.289.7951
SEQUENCE:3
DTSTAMP:20260424T235302Z
URL:https://business.wenatchee.org/events/details/business-after-hours-at-wenatchee-valley-college-7951
END:VEVENT

END:VCALENDAR
