BEGIN:VCALENDAR
VERSION:2.0
PRODID:-//ChamberMaster//Event Calendar 2.0//EN
METHOD:PUBLISH
X-PUBLISHED-TTL:P3D
REFRESH-INTERVAL:P3D
CALSCALE:GREGORIAN
BEGIN:VEVENT
DTSTART:20191031T000000Z
DTEND:20191031T020000Z
X-MICROSOFT-CDO-ALLDAYEVENT:FALSE
SUMMARY:Business After Hours at LocalTel & NCWLIFE
DESCRIPTION:It's a fall harvest party at LocalTel Tech Support and NCWLIFE Channel. Come take a tour\, you will be amazed at how much goes on inside their walls! Keeping with the fall themse they will have a chili bar\, caramel apples & beverages for you to enjoy while we network among friends. As always this event is free for members and non-members. Please RSVP at Wenatchee.org or info@wenatchee.org
X-ALT-DESC;FMTTYPE=text/html:It&#39\;s a fall harvest party at LocalTel Tech Support and NCWLIFE Channel. Come take a tour\, you will be amazed at how much goes on inside their walls! Keeping with the fall themse they will have a chili bar\, caramel apples &amp\; beverages for you to enjoy while we network among friends. As always this event is free for members and non-members. Please RSVP at Wenatchee.org or info@wenatchee.org&nbsp\;
LOCATION:201 S. Chelan Ave. Wenatchee\, WA 98801
UID:e.289.7468
SEQUENCE:3
DTSTAMP:20260425T135728Z
URL:https://business.wenatchee.org/events/details/business-after-hours-at-localtel-ncwlife-7468
END:VEVENT

END:VCALENDAR
