BEGIN:VCALENDAR
VERSION:2.0
PRODID:-//ChamberMaster//Event Calendar 2.0//EN
METHOD:PUBLISH
X-PUBLISHED-TTL:P3D
REFRESH-INTERVAL:P3D
CALSCALE:GREGORIAN
BEGIN:VEVENT
DTSTART:20190628T000000Z
DTEND:20190628T020000Z
X-MICROSOFT-CDO-ALLDAYEVENT:FALSE
SUMMARY:Business After Hours at GESA
DESCRIPTION:Join us for the June Business After Hours hosted by our friends from Gesa Credit Union! Meet the Gesa staff and enjoy appetizers\, drinks\, prizes\, and live music! Fun begins on Tuesday\, June 27 from 5:00-7:00pm at 1005 N. Wenatchee Ave.\, Wenatchee.
X-ALT-DESC;FMTTYPE=text/html:<span style="font-family:calibri\,sans-serif\;"><span style="font-size:11.0pt\;">Join us for the June Business After Hours hosted by our friends from Gesa Credit Union! Meet the Gesa staff and enjoy appetizers\, drinks\, prizes\, and live music! Fun begins on Tuesday\, June 27 from 5:00-7:00pm at 1005 N. Wenatchee Ave.\, Wenatchee.&nbsp\; </span></span><br />\n<br />\n&nbsp\;
LOCATION:1005 N Wenatchee Ave\, Wenatchee\, Washington 98801
UID:e.289.7308
SEQUENCE:3
DTSTAMP:20260425T181117Z
URL:https://business.wenatchee.org/events/details/business-after-hours-at-gesa-7308
END:VEVENT

END:VCALENDAR
