BEGIN:VCALENDAR
VERSION:2.0
PRODID:-//ChamberMaster//Event Calendar 2.0//EN
METHOD:PUBLISH
X-PUBLISHED-TTL:P3D
REFRESH-INTERVAL:P3D
CALSCALE:GREGORIAN
BEGIN:VEVENT
DTSTART:20190301T013000Z
DTEND:20190301T033000Z
X-MICROSOFT-CDO-ALLDAYEVENT:FALSE
SUMMARY:Business After Hours at Avamere
DESCRIPTION:Come check out the award winning Avamere of Wenatchee\, Senior Living. This networking event is free to attend and while enjoying the complimentary refreshments and door prizes you also have the opportunity to tour the facility and learn more about Avamere.
X-ALT-DESC;FMTTYPE=text/html:Come check out the award winning Avamere of Wenatchee\, Senior Living. This networking event is free to attend and while enjoying the complimentary refreshments and door prizes you also have the opportunity to tour the facility and learn more about Avamere.&nbsp\;&nbsp\;&nbsp\;&nbsp\;
LOCATION:Avamere at Wenatchee\, 1550 Cherry Street\, Wenatchee 98801
UID:e.289.7054
SEQUENCE:3
DTSTAMP:20260426T010135Z
URL:https://business.wenatchee.org/events/details/business-after-hours-at-avamere-7054
END:VEVENT

END:VCALENDAR
