BEGIN:VCALENDAR
VERSION:2.0
PRODID:-//ChamberMaster//Event Calendar 2.0//EN
METHOD:PUBLISH
X-PUBLISHED-TTL:P3D
REFRESH-INTERVAL:P3D
CALSCALE:GREGORIAN
BEGIN:VEVENT
DTSTART:20201029T230000Z
DTEND:20201030T000000Z
X-MICROSOFT-CDO-ALLDAYEVENT:FALSE
SUMMARY:Business After Hours
DESCRIPTION:Save the date! Our FREE monthly networking event is coming back via Zoom and this month we will be featuring Pear Up Cider! Pear Up Cider will be treating us to a fun virtual tasting just in time for fall.\n\n\n\nKevin at Pear Up Cider will walk us through a virtual tasting of 3 of his famous ciders. Pick up your 3-bottle tasting for $6 at the Wenatchee Valley Chamber of purchase your cider tasting kit directly from Pear Up Cider: https://www.pearupcider.com/contact-us\n\n\n\nRegistration is required so please RSVP at Wenatchee.org/events/calendar or info@wenatchee.org to receive the Zoom link.
X-ALT-DESC;FMTTYPE=text/html:Save the date! Our FREE monthly networking event is coming back via Zoom and this month we will be featuring Pear Up Cider! Pear Up Cider will be treating us to a fun virtual tasting just in time for fall.<br />\n<br />\nKevin at Pear Up Cider will walk us through a virtual tasting of 3 of his famous ciders. Pick up your 3-bottle tasting for $6 at the Wenatchee Valley Chamber of purchase your cider tasting kit directly from Pear Up Cider: <a href="https://www.pearupcider.com/contact-us">https://www.pearupcider.com/contact-us</a><br />\n<br />\nRegistration is required so please RSVP at Wenatchee.org/events/calendar or <a href="mailto:info@wenatchee.org">info@wenatchee.org</a> to receive the Zoom link.
LOCATION:Zoom
UID:e.289.7763
SEQUENCE:3
DTSTAMP:20260424T155259Z
URL:https://business.wenatchee.org/events/details/business-after-hours-7763
END:VEVENT

END:VCALENDAR
