BEGIN:VCALENDAR
VERSION:2.0
PRODID:-//ChamberMaster//Event Calendar 2.0//EN
METHOD:PUBLISH
X-PUBLISHED-TTL:P3D
REFRESH-INTERVAL:P3D
CALSCALE:GREGORIAN
BEGIN:VEVENT
DTSTART:20200924T230000Z
DTEND:20200925T000000Z
X-MICROSOFT-CDO-ALLDAYEVENT:FALSE
SUMMARY:Business After Hours
DESCRIPTION:Our networking event has changed to 4pm! Join us while we play a fun activity\, network and win PRIZES! More information will be available on our Facebook page and website.\n\n\n\nThis event is free\, please register to receive the Zoom information to join us.
X-ALT-DESC;FMTTYPE=text/html:Our networking event has changed to 4pm! Join us while we play a fun activity\, network and win PRIZES! More information will be available on our Facebook page and website.<br />\n<br />\nThis event is free\, please register to receive the Zoom information to join us.
LOCATION:Zoom Event
UID:e.289.7743
SEQUENCE:3
DTSTAMP:20260424T172522Z
URL:https://business.wenatchee.org/events/details/business-after-hours-7743
END:VEVENT

END:VCALENDAR
