BEGIN:VCALENDAR
VERSION:2.0
PRODID:-//ChamberMaster//Event Calendar 2.0//EN
METHOD:PUBLISH
X-PUBLISHED-TTL:P3D
REFRESH-INTERVAL:P3D
CALSCALE:GREGORIAN
BEGIN:VEVENT
DTSTART:20200828T000000Z
DTEND:20200828T010000Z
X-MICROSOFT-CDO-ALLDAYEVENT:FALSE
SUMMARY:Business After Hours
DESCRIPTION:Join us for another virtual networking hour! Bring your artsy side\, Nancy with Class with a Glass will be hosting our activity and Stacy with the WVC Center for Entrepreneurship will host our networking portion. Meet with other people and win fun prizes! This event is FREE\, just register to receive the Zoom information.
X-ALT-DESC;FMTTYPE=text/html:Join us for another virtual networking hour! Bring your artsy side\, Nancy with Class with a Glass will be hosting our activity and Stacy with the WVC Center for Entrepreneurship will host our networking portion. Meet with other people and win fun prizes! This event is FREE\, just register to receive the Zoom information.&nbsp\;
LOCATION:Zoom
UID:e.289.7727
SEQUENCE:3
DTSTAMP:20260424T190359Z
URL:https://business.wenatchee.org/events/details/business-after-hours-7727
END:VEVENT

END:VCALENDAR
