BEGIN:VCALENDAR
VERSION:2.0
PRODID:-//ChamberMaster//Event Calendar 2.0//EN
METHOD:PUBLISH
X-PUBLISHED-TTL:P3D
REFRESH-INTERVAL:P3D
CALSCALE:GREGORIAN
BEGIN:VEVENT
DTSTART:20190927T000000Z
DTEND:20190927T020000Z
X-MICROSOFT-CDO-ALLDAYEVENT:FALSE
SUMMARY:Business After Hours
DESCRIPTION:Get ready for a high energy event! The mantra "Anticipate. Envision. Create" guides SCJ with clients and they're using it to create a fun-filled Business After Hours. Anticipating and inviting lots of guests. Envisioning free-flowing beverages and tasty treats. Creating an event filled with networking\, games and lots of door prizes. And SCJ's GIVING AWAY A BOAT! A two-person inflatable K2 kayak with oars. Other prizes include a Titan cooler\, a Seahawks 6Qt Slow Cooker\, Don't Die in the Wood Emergency Blankets\, wine\, SCJ Yeti tumbler\, and more. \n\n\n\nSCJ loves serving communities in North Central Washington. Recent projects include the East Wenatchee Gateway Plaza\, downtown Chelan street and bridge improvements\, a pump track in the Eastmont Community Park\, and\, soon\, the conversation of converting the former Shopko into a WinCo. \n\n\n\nAs always this event is free for members and non-members. Please RSVP!
X-ALT-DESC;FMTTYPE=text/html:<div data-block="true" data-editor="aug1t" data-offset-key="8si08-0-0" style="font-family: Helvetica\, Arial\, sans-serif\; color: rgb(28\, 30\, 33)\; font-size: 12px\; white-space: pre-wrap\; background-color: rgb(255\, 255\, 255)\;">\n<div class="_1mf _1mj" data-offset-key="8si08-0-0" style="position: relative\; direction: ltr\; font-family: inherit\;"><span style="font-size:14px\;"><span data-offset-key="8si08-0-0" style="font-family: inherit\;">Get ready for a high energy event! The mantra<strong> &ldquo\;Anticipate. Envision. Create&rdquo\; </strong>guides SCJ with clients and they&rsquo\;re using it to create a fun-filled Business After Hours. <strong>Anticipating</strong> and inviting lots of guests. <strong>Envisioning</strong> free-flowing beverages and tasty treats. <strong>Creating</strong> an event filled with networking\, games and lots of door prizes. And SCJ&rsquo\;s GIVING AWAY A BOAT! A two-person inflatable K2 kayak with oars. Other prizes include a Titan cooler\, a Seahawks 6Qt Slow Cooker\, Don&rsquo\;t Die in the Wood Emergency Blankets\, wine\, SCJ Yeti tumbler\, and more. </span></span></div>\n</div>\n\n<div data-block="true" data-editor="aug1t" data-offset-key="dccai-0-0" style="font-family: Helvetica\, Arial\, sans-serif\; color: rgb(28\, 30\, 33)\; font-size: 12px\; white-space: pre-wrap\; background-color: rgb(255\, 255\, 255)\;">\n<div class="_1mf _1mj" data-offset-key="dccai-0-0" style="position: relative\; direction: ltr\; font-family: inherit\;"><span style="font-size:14px\;"><span data-offset-key="dccai-0-0" style="font-family: inherit\;">SCJ loves serving communities in North Central Washington. Recent projects include the East Wenatchee Gateway Plaza\, downtown Chelan street and bridge improvements\, a pump track in the Eastmont Community Park\, and\, soon\, the conversation of converting the former Shopko into a WinCo. </span></span></div>\n</div>\n\n<div data-block="true" data-editor="aug1t" data-offset-key="dosnf-0-0" style="font-family: Helvetica\, Arial\, sans-serif\; color: rgb(28\, 30\, 33)\; font-size: 12px\; white-space: pre-wrap\; background-color: rgb(255\, 255\, 255)\;">\n<div class="_1mf _1mj" data-offset-key="dosnf-0-0" style="position: relative\; direction: ltr\; font-family: inherit\;"><span style="font-size:14px\;"><span data-offset-key="dosnf-0-0" style="font-family: inherit\;">As always this event is free for members and non-members. Please RSVP!</span></span></div>\n</div>\n
LOCATION:25 N Wenatchee Ave\, Suite 238 Second above Arlberg Sports (Grand Central Building)
UID:e.289.7412
SEQUENCE:3
DTSTAMP:20260425T133051Z
URL:https://business.wenatchee.org/events/details/business-after-hours-7412
END:VEVENT

END:VCALENDAR
