BEGIN:VCALENDAR
VERSION:2.0
PRODID:-//ChamberMaster//Event Calendar 2.0//EN
METHOD:PUBLISH
X-PUBLISHED-TTL:P3D
REFRESH-INTERVAL:P3D
CALSCALE:GREGORIAN
BEGIN:VEVENT
DTSTART:20190830T000000Z
DTEND:20190830T020000Z
X-MICROSOFT-CDO-ALLDAYEVENT:FALSE
SUMMARY:Business After Hours
DESCRIPTION:Two of our members are teaming up to bring you one heck of a Business After Hours event. Come and meet the teams from Guild Mortgage and Premier One Properties\, learn about their services and how they are involved in the community. They will have catered food by 2 Chefs\, beverages and 8 DOOR PRIZES!! Each business is putting together baskets of their favorite things\, how fun is that?! \n\nPlease RSVP at Wenatchee.org or info@wenatchee.org We look forward to connecting with you!
X-ALT-DESC;FMTTYPE=text/html:<span style="language:en-US\;"><span style="font-family:segoe ui\;">Two of our members are teaming up to bring you one heck of a Business After Hours event. Come and meet the teams from Guild Mortgage and Premier One Properties\, learn about their services and how they are involved in the community. They will have catered food by 2 Chefs\, beverages and 8 DOOR PRIZES!! Each business is putting together baskets of their favorite things\, how fun is that?! </span></span><br />\n<span style="language:en-US\;"><span style="font-family:segoe ui\;">Please RSVP at Wenatchee.org or info@wenatchee.org We look forward to connecting with you!</span></span><br />\n&nbsp\;
LOCATION:925 Fifth St.\, Wenatchee WA 98801
UID:e.289.7398
SEQUENCE:3
DTSTAMP:20260425T163719Z
URL:https://business.wenatchee.org/events/details/business-after-hours-7398
END:VEVENT

END:VCALENDAR
