BEGIN:VCALENDAR
VERSION:2.0
PRODID:-//ChamberMaster//Event Calendar 2.0//EN
METHOD:PUBLISH
X-PUBLISHED-TTL:P3D
REFRESH-INTERVAL:P3D
CALSCALE:GREGORIAN
BEGIN:VEVENT
DTSTART:20190726T000000Z
DTEND:20190726T020000Z
X-MICROSOFT-CDO-ALLDAYEVENT:FALSE
SUMMARY:Business After Hours
DESCRIPTION:We'll see you at the Brewery for this one-of-a-kind event. Beer garden style with $4 pints and 25% off anything on the menu. A great time to celebrate summer outside and network. Free to members and non-members so bring a friend and/or coworker and find out about WVBC's award-winner beer. Please RSVP!
X-ALT-DESC;FMTTYPE=text/html:<span style="color: rgb(46\, 47\, 47)\; font-family: Roboto\, sans-serif\; font-size: 12px\; text-align: justify\; white-space: pre-wrap\; background-color: rgb(255\, 255\, 255)\;">We&rsquo\;ll see you at the Brewery for this one-of-a-kind event. Beer garden style with $4 pints and 25% off anything on the menu. A great time to celebrate summer outside and network. Free to members and non-members so bring a friend and/or coworker and find out about WVBC&#39\;s award-winner beer. Please RSVP!</span>
LOCATION:Wenatchee Valley Brewing Co. 108 East Island View St.\, Wenatchee
UID:e.289.7355
SEQUENCE:3
DTSTAMP:20260425T162900Z
URL:https://business.wenatchee.org/events/details/business-after-hours-7355
END:VEVENT

END:VCALENDAR
