BEGIN:VCALENDAR
VERSION:2.0
PRODID:-//ChamberMaster//Event Calendar 2.0//EN
METHOD:PUBLISH
X-PUBLISHED-TTL:P3D
REFRESH-INTERVAL:P3D
CALSCALE:GREGORIAN
BEGIN:VEVENT
DTSTART:20190524T000000Z
DTEND:20190524T020000Z
X-MICROSOFT-CDO-ALLDAYEVENT:FALSE
SUMMARY:Business After Hours
DESCRIPTION:Join us for Business After Hours hosted by Forte Architects. Come check out their beautiful space and learn about their projects and dynamic team! As always this event is FREE! Please RSVP online at Wenatchee.org/events/calendar or to info@wenatchee.org
X-ALT-DESC;FMTTYPE=text/html:<span style="language:en-US\;"><span style="color:black\;"><span style="font-family:segoe ui\;"><span style="font-size:10.0pt\;">Join us for Business After Hours hosted by Forte Architects. Come check out their beautiful space and learn about their projects and dynamic team! As always this event is FREE! Please RSVP online at Wenatchee.org/events/calendar or to info@wenatchee.org</span></span></span></span><br />\n&nbsp\;
LOCATION:240 N. Wenatchee Ave Wenatchee\, WA 98801
UID:e.289.7288
SEQUENCE:3
DTSTAMP:20260425T200253Z
URL:https://business.wenatchee.org/events/details/business-after-hours-7288
END:VEVENT

END:VCALENDAR
