BEGIN:VCALENDAR
VERSION:2.0
PRODID:-//ChamberMaster//Event Calendar 2.0//EN
METHOD:PUBLISH
X-PUBLISHED-TTL:P3D
REFRESH-INTERVAL:P3D
CALSCALE:GREGORIAN
BEGIN:VEVENT
DTSTART:20190329T000000Z
DTEND:20190329T020000Z
X-MICROSOFT-CDO-ALLDAYEVENT:FALSE
SUMMARY:Business After Hours
DESCRIPTION:Join us for FREE networking event featuring one of our Non-Profit of the Year nominees\, Chelan Douglas County Volunteer Attorney Services (VAS). VAS coordinates free civil legal help for low-income people in our valley with the help of attorney volunteers. Enjoy drinks\, appetizers and door prizes courtesy of their sponsor Foreman\, Appel\, Hotchkiss\, Zimmerman & Bauscher. Come and tour their space and meet staff and attorney volunteers.\n\n\n\nThere is street parking\, and public parking in the lot south of the Deaconess Building.  The office is located in the Deaconess Building that houses offices and apartments for seniors.  Please do not park in tenant spots (marked with numbers).\n\n\n\nPlease RSVP online or at info@wenatchee.org
X-ALT-DESC;FMTTYPE=text/html:Join us for FREE networking event featuring one of our Non-Profit of the Year nominees\, Chelan Douglas County Volunteer Attorney Services (VAS). VAS coordinates free civil legal help for low-income people in our valley with the help of attorney volunteers. Enjoy drinks\, appetizers and door prizes courtesy of their sponsor Foreman\, Appel\, Hotchkiss\, Zimmerman &amp\; Bauscher. Come and tour their space and meet staff and attorney volunteers.<br />\n<br />\nThere is street parking\, and public parking in the lot south of the Deaconess Building.&nbsp\; The office is located in the Deaconess Building that houses offices and apartments for seniors. &nbsp\;Please do not park in tenant spots (marked with numbers).<br />\n<br />\nPlease RSVP online or at <a href="mailto:info@wenatchee.org">info@wenatchee.or</a>g<br />\n&nbsp\;
LOCATION:300 Okanogan Ave. Suite 3B Wenatchee\, WA
UID:e.289.7182
SEQUENCE:3
DTSTAMP:20260426T011817Z
URL:https://business.wenatchee.org/events/details/business-after-hours-7182
END:VEVENT

END:VCALENDAR
