BEGIN:VCALENDAR
VERSION:2.0
PRODID:-//ChamberMaster//Event Calendar 2.0//EN
METHOD:PUBLISH
X-PUBLISHED-TTL:P3D
REFRESH-INTERVAL:P3D
CALSCALE:GREGORIAN
BEGIN:VEVENT
DTSTART:20190124T010000Z
DTEND:20190124T030000Z
X-MICROSOFT-CDO-ALLDAYEVENT:FALSE
SUMMARY:Business After Hours
DESCRIPTION:Business After Hours at the Wenatchee Valley Museum and Cultural Center. Come check out this community resource\, meet the staff as well as their new Director. As usual there will be refreshments\, door prizes and networking. Open to all members and non members so bring a friend or co worker or both! Please RSVP to info@wenatchee.org or call 509.662.2116
X-ALT-DESC;FMTTYPE=text/html:Business After Hours at the Wenatchee Valley Museum and Cultural Center. Come check out this community resource\, meet the staff as well as their new Director. As usual there will be refreshments\, door prizes and networking. Open to all members and non members so bring a friend or co worker or both! Please RSVP to info@wenatchee.org or call 509.662.2116
LOCATION:Wenatchee Valley Museum and Cultural Center 127 South Mission Street Wenatchee\, WA 98801
UID:e.289.7007
SEQUENCE:3
DTSTAMP:20260426T025345Z
URL:https://business.wenatchee.org/events/details/business-after-hours-7007
END:VEVENT

END:VCALENDAR
