BEGIN:VCALENDAR
VERSION:2.0
PRODID:-//ChamberMaster//Event Calendar 2.0//EN
METHOD:PUBLISH
X-PUBLISHED-TTL:P3D
REFRESH-INTERVAL:P3D
CALSCALE:GREGORIAN
BEGIN:VEVENT
DTSTART:20190823T010000Z
DTEND:20190823T030000Z
X-MICROSOFT-CDO-ALLDAYEVENT:FALSE
SUMMARY:Blues & Brews
DESCRIPTION:Join Numerica Credit Union at their East Wenatchee branch as we raise a glass to the community. Come enjoy a beer from 509 fireworks\, food from Mike's Meats and Seafood\, and music by the 509's. While it costs nothing to attend\, all proceeds from the evening will benefit Chelan Douglas County Volunteer Attorney Service. Link: https://www.numericacu.com/learn/events/blues-and-brews/
X-ALT-DESC;FMTTYPE=text/html:Join Numerica Credit Union at their East Wenatchee branch as we raise a glass to the community. Come enjoy a beer from 509 fireworks\, food from Mike&#39\;s Meats and Seafood\, and music by the 509&#39\;s. While it costs nothing to attend\, all proceeds from the evening will benefit Chelan Douglas County Volunteer Attorney Service. Link: https://www.numericacu.com/learn/events/blues-and-brews/
LOCATION:East Wenatchee branch (477 Grant Road\, East Wenatchee)
UID:e.289.7408
SEQUENCE:3
DTSTAMP:20260425T145727Z
URL:https://business.wenatchee.org/events/details/blues-brews-7408
END:VEVENT

END:VCALENDAR
