BEGIN:VCALENDAR
VERSION:2.0
PRODID:-//ChamberMaster//Event Calendar 2.0//EN
METHOD:PUBLISH
X-PUBLISHED-TTL:P3D
REFRESH-INTERVAL:P3D
CALSCALE:GREGORIAN
BEGIN:VEVENT
DTSTART:20190518T000000Z
DTEND:20190518T030000Z
X-MICROSOFT-CDO-ALLDAYEVENT:FALSE
SUMMARY:Blue Lagoon Pool & Spa Ribbon Cutting
DESCRIPTION:Join us as we celebrate the grand opening of Blue Lagoon Pool & Spa\, a local family owned business in the heart of downtown.\n\n\n\nBring the family\, invite your friends. Friday\, May 17th 5-8pm\, Ribbon Cutting at 5:30pm!! There will be Lots of GAMES\, Door Prizes too. FREE hot dogs\, drinks and dessert. \n\n\n\nHope to see you there!
X-ALT-DESC;FMTTYPE=text/html:<span style="color: rgb(29\, 33\, 41)\; font-family: system-ui\, -apple-system\, system-ui\, &quot\;.SFNSText-Regular&quot\;\, sans-serif\; font-size: 14px\; white-space: pre-wrap\;">Join us as we celebrate the grand opening of Blue Lagoon Pool &amp\; Spa\, a local family owned business in the heart of downtown.</span><br style="color: rgb(29\, 33\, 41)\; font-family: system-ui\, -apple-system\, system-ui\, &quot\;.SFNSText-Regular&quot\;\, sans-serif\; font-size: 14px\; white-space: pre-wrap\;" />\n<br style="color: rgb(29\, 33\, 41)\; font-family: system-ui\, -apple-system\, system-ui\, &quot\;.SFNSText-Regular&quot\;\, sans-serif\; font-size: 14px\; white-space: pre-wrap\;" />\n<span style="color: rgb(29\, 33\, 41)\; font-family: system-ui\, -apple-system\, system-ui\, &quot\;.SFNSText-Regular&quot\;\, sans-serif\; font-size: 14px\; white-space: pre-wrap\;">Bring the family\, invite your friends. Friday\, May 17th 5-8pm\, Ribbon Cutting at 5:30pm!! There will be Lots of GAMES\, Door Prizes too. FREE hot dogs\, drinks and dessert. </span><br style="color: rgb(29\, 33\, 41)\; font-family: system-ui\, -apple-system\, system-ui\, &quot\;.SFNSText-Regular&quot\;\, sans-serif\; font-size: 14px\; white-space: pre-wrap\;" />\n<br style="color: rgb(29\, 33\, 41)\; font-family: system-ui\, -apple-system\, system-ui\, &quot\;.SFNSText-Regular&quot\;\, sans-serif\; font-size: 14px\; white-space: pre-wrap\;" />\n<span style="color: rgb(29\, 33\, 41)\; font-family: system-ui\, -apple-system\, system-ui\, &quot\;.SFNSText-Regular&quot\;\, sans-serif\; font-size: 14px\; white-space: pre-wrap\;">Hope to see you there!</span>
LOCATION:225 S. Wenatchee Ave\, Wenatchee\, Washington 98801
UID:e.289.7305
SEQUENCE:3
DTSTAMP:20260425T214921Z
URL:https://business.wenatchee.org/events/details/blue-lagoon-pool-spa-ribbon-cutting-7305
END:VEVENT

END:VCALENDAR
