BEGIN:VCALENDAR
VERSION:2.0
PRODID:-//ChamberMaster//Event Calendar 2.0//EN
METHOD:PUBLISH
X-PUBLISHED-TTL:P3D
REFRESH-INTERVAL:P3D
CALSCALE:GREGORIAN
BEGIN:VEVENT
DTSTART:20190915T213000Z
DTEND:20190915T230000Z
X-MICROSOFT-CDO-ALLDAYEVENT:FALSE
SUMMARY:Bill Starkey Stage Dedication
DESCRIPTION:You're invited to join us for the William "Bill" Starkey Stage Dedication Ceremony on Sunday\, September 15 from 2:30-4 PM. We encourage anyone who would like to remember\, recognize and share stories of Bill and his passion for the Museum and the organ to join us for this dedication ceremony. Organ music and light refreshments included. This event is open to the public.
X-ALT-DESC;FMTTYPE=text/html:You&rsquo\;re invited to join us for the William &ldquo\;Bill&rdquo\; Starkey Stage Dedication Ceremony on Sunday\, September 15 from 2:30-4 PM. We encourage anyone who would like to remember\, recognize and share stories of Bill and his passion for the Museum and the organ to join us for this dedication ceremony. Organ music and light refreshments included. This event is open to the public.
LOCATION:Wenatchee Valley Museum & Cultural Center
UID:e.289.7432
SEQUENCE:3
DTSTAMP:20260425T132938Z
URL:https://business.wenatchee.org/events/details/bill-starkey-stage-dedication-7432
END:VEVENT

END:VCALENDAR
