BEGIN:VCALENDAR
VERSION:2.0
PRODID:-//ChamberMaster//Event Calendar 2.0//EN
METHOD:PUBLISH
X-PUBLISHED-TTL:P3D
REFRESH-INTERVAL:P3D
CALSCALE:GREGORIAN
BEGIN:VEVENT
DTSTART:20200912T160000Z
DTEND:20200912T210000Z
X-MICROSOFT-CDO-ALLDAYEVENT:FALSE
SUMMARY:Bike 2 Thrive
DESCRIPTION:Impact! Events is hosting Bike 2 Thrive on Saturday\, September 12th. Individuals and families are invited to Bike or Walk on the Apple Capitol Recreation Loop Trail anytime between 9AM to 2PM. Register as an individual or as a team\, get pledges and join us for a day of fun! It's a day where our community will come together in unity and hope! We will social-distance\, bring a mask and be ready for a lovely day on the Loop Trail.
X-ALT-DESC;FMTTYPE=text/html:Impact! Events is hosting Bike 2 Thrive on Saturday\, September 12th. Individuals and families are invited to Bike or Walk on the Apple Capitol Recreation Loop Trail anytime between 9AM to 2PM. Register as an individual or as a team\, get pledges and join us for a day of fun! It&#39\;s a day where our community will come together in unity and hope! We will social-distance\, bring a mask and be ready for a lovely day on the Loop Trail.
LOCATION:Walla Walla Point Park
UID:e.289.7732
SEQUENCE:3
DTSTAMP:20260424T172431Z
URL:https://business.wenatchee.org/events/details/bike-2-thrive-7732
END:VEVENT

END:VCALENDAR
