BEGIN:VCALENDAR
VERSION:2.0
PRODID:-//ChamberMaster//Event Calendar 2.0//EN
METHOD:PUBLISH
X-PUBLISHED-TTL:P3D
REFRESH-INTERVAL:P3D
CALSCALE:GREGORIAN
BEGIN:VEVENT
DTSTART:20190126T023000Z
DTEND:20190126T043000Z
X-MICROSOFT-CDO-ALLDAYEVENT:FALSE
SUMMARY:Bianchi Vineyards Snowman Painting Class
DESCRIPTION:Have some winter cheer at the Bianchi Vineyards Snowman Painting Class! Art Instructor Andrea Rogers will provide you with all art supplies. Bianchi Vineyards will provide you with Wine and Chocolate snacks.
X-ALT-DESC;FMTTYPE=text/html:Have some winter cheer at the Bianchi Vineyards Snowman Painting Class! Art Instructor Andrea Rogers will provide you with all art supplies. Bianchi Vineyards will provide you with Wine and Chocolate snacks.
LOCATION:Bianchi Vineyards 4210 10th Street SE East Wenatchee\, WA 98802
UID:e.289.7107
SEQUENCE:3
DTSTAMP:20260426T025806Z
URL:https://business.wenatchee.org/events/details/bianchi-vineyards-snowman-painting-class-7107
END:VEVENT

END:VCALENDAR
