BEGIN:VCALENDAR
VERSION:2.0
PRODID:-//ChamberMaster//Event Calendar 2.0//EN
METHOD:PUBLISH
X-PUBLISHED-TTL:P3D
REFRESH-INTERVAL:P3D
CALSCALE:GREGORIAN
BEGIN:VEVENT
DTSTART:20210916T190000Z
DTEND:20210916T200000Z
X-MICROSOFT-CDO-ALLDAYEVENT:FALSE
SUMMARY:Be a Better Boss
DESCRIPTION:A set of proven practices to help you be a better leader and a better manager to drive accountability in your organization. Discover the difference between leadership and management - and why you need both! Cheri\, with Traction Advantage\, will provide a simple set of actionable tools that you can use right away to improve employee engagement and success.
X-ALT-DESC;FMTTYPE=text/html:A set of proven practices to help you be a better leader and a better manager to drive accountability in your organization. Discover the difference between leadership and management - and why you need both! Cheri\, with Traction Advantage\, will provide a simple set of actionable tools that you can use right away to improve employee engagement and success.
LOCATION:Zoom - Online Event
UID:e.289.7878
SEQUENCE:3
DTSTAMP:20260424T134605Z
URL:https://business.wenatchee.org/events/details/be-a-better-boss-7878
END:VEVENT

END:VCALENDAR
