BEGIN:VCALENDAR
VERSION:2.0
PRODID:-//ChamberMaster//Event Calendar 2.0//EN
METHOD:PUBLISH
X-PUBLISHED-TTL:P3D
REFRESH-INTERVAL:P3D
CALSCALE:GREGORIAN
BEGIN:VEVENT
DTSTART;VALUE=DATE:20201117
DTEND;VALUE=DATE:20201119
TRANSP:TRANSPARENT
X-MICROSOFT-CDO-ALLDAYEVENT:TRUE
SUMMARY:Basic Mediation Training session #1 of 2
DESCRIPTION:The Wenatchee Valley Dispute Resolution Center (WVDRC) is offering a Resolution Washington and Washington Mediation Association-approved 40-hour Basic Mediation Training (BMT) course in Winter 2020 in collaboration with the Dispute Resolution Center of Tri-Cities and Neutral Ground Dispute Resolution Center. The WVDRC offers this course for anyone who:\n\n  Is interested in becoming a certified volunteer mediator with the WVDRC.\n\n  Wants to learn more effective ways to deal with conflict at work\, at home\, or in the classroom.\n\n  Is in the legal\, counseling\, human resources\, or education field and needs relevant professional training.\n\nThe BMT course teaches the process of mediation\, communication skills\, and conflict dynamics to promote peaceful and constructive approaches to conflict and its resolution\, whether in the workplace\, home\, or in our community.\n\nTrainees who have completed the BMT course are eligible to begin a mediation practicum to become a certified volunteer mediator with the WVDRC.\n\nTraining is approved for 40 Clock Hours for educators. CLE & ethics for attorneys pending.
X-ALT-DESC;FMTTYPE=text/html:<p style="margin: 0px\; padding: 10px 0px 0px\; color: rgb(111\, 114\, 135)\; font-size: 16px\; line-height: 1.5rem\; font-family: &quot\;Neue Plak&quot\;\, -apple-system\, BlinkMacSystemFont\, Roboto\, &quot\;Helvetica Neue&quot\;\, Helvetica\, Tahoma\, Arial\, sans-serif\; letter-spacing: 0.5px\;">The Wenatchee Valley Dispute Resolution Center (WVDRC) is offering a Resolution Washington and Washington Mediation Association-approved 40-hour Basic Mediation Training (BMT) course in Winter 2020 in collaboration with the Dispute Resolution Center of Tri-Cities and Neutral Ground Dispute Resolution Center. The WVDRC offers this course for anyone who:</p>\n\n<p style="margin: 0px\; padding: 10px 0px 0px\; color: rgb(111\, 114\, 135)\; font-size: 16px\; line-height: 1.5rem\; font-family: &quot\;Neue Plak&quot\;\, -apple-system\, BlinkMacSystemFont\, Roboto\, &quot\;Helvetica Neue&quot\;\, Helvetica\, Tahoma\, Arial\, sans-serif\; letter-spacing: 0.5px\;">&bull\; Is interested in becoming a certified volunteer mediator with the WVDRC.</p>\n\n<p style="margin: 0px\; padding: 10px 0px 0px\; color: rgb(111\, 114\, 135)\; font-size: 16px\; line-height: 1.5rem\; font-family: &quot\;Neue Plak&quot\;\, -apple-system\, BlinkMacSystemFont\, Roboto\, &quot\;Helvetica Neue&quot\;\, Helvetica\, Tahoma\, Arial\, sans-serif\; letter-spacing: 0.5px\;">&bull\; Wants to learn more effective ways to deal with conflict at work\, at home\, or in the classroom.</p>\n\n<p style="margin: 0px\; padding: 10px 0px 0px\; color: rgb(111\, 114\, 135)\; font-size: 16px\; line-height: 1.5rem\; font-family: &quot\;Neue Plak&quot\;\, -apple-system\, BlinkMacSystemFont\, Roboto\, &quot\;Helvetica Neue&quot\;\, Helvetica\, Tahoma\, Arial\, sans-serif\; letter-spacing: 0.5px\;">&bull\; Is in the legal\, counseling\, human resources\, or education field and needs relevant professional training.</p>\n\n<p style="margin: 0px\; padding: 10px 0px 0px\; color: rgb(111\, 114\, 135)\; font-size: 16px\; line-height: 1.5rem\; font-family: &quot\;Neue Plak&quot\;\, -apple-system\, BlinkMacSystemFont\, Roboto\, &quot\;Helvetica Neue&quot\;\, Helvetica\, Tahoma\, Arial\, sans-serif\; letter-spacing: 0.5px\;">The BMT course teaches the process of mediation\, communication skills\, and conflict dynamics to promote peaceful and constructive approaches to conflict and its resolution\, whether in the workplace\, home\, or in our community.</p>\n\n<p style="margin: 0px\; padding: 10px 0px 0px\; color: rgb(111\, 114\, 135)\; font-size: 16px\; line-height: 1.5rem\; font-family: &quot\;Neue Plak&quot\;\, -apple-system\, BlinkMacSystemFont\, Roboto\, &quot\;Helvetica Neue&quot\;\, Helvetica\, Tahoma\, Arial\, sans-serif\; letter-spacing: 0.5px\;">Trainees who have completed the BMT course are eligible to begin a mediation practicum to become a certified volunteer mediator with the WVDRC.</p>\n\n<p style="margin: 0px\; padding: 10px 0px 0px\; color: rgb(111\, 114\, 135)\; font-size: 16px\; line-height: 1.5rem\; font-family: &quot\;Neue Plak&quot\;\, -apple-system\, BlinkMacSystemFont\, Roboto\, &quot\;Helvetica Neue&quot\;\, Helvetica\, Tahoma\, Arial\, sans-serif\; letter-spacing: 0.5px\;">Training is approved for 40 Clock Hours for educators. CLE &amp\; ethics for attorneys pending.</p>\n\n<p style="margin: 0px\; padding: 10px 0px 0px\; color: rgb(111\, 114\, 135)\; font-size: 16px\; line-height: 1.5rem\; font-family: &quot\;Neue Plak&quot\;\, -apple-system\, BlinkMacSystemFont\, Roboto\, &quot\;Helvetica Neue&quot\;\, Helvetica\, Tahoma\, Arial\, sans-serif\; letter-spacing: 0.5px\;">&nbsp\;</p>\n
LOCATION:Location: Zoom application
UID:e.289.7769
SEQUENCE:3
DTSTAMP:20260424T140356Z
URL:https://business.wenatchee.org/events/details/basic-mediation-training-session-1-of-2-7769
END:VEVENT

END:VCALENDAR
