BEGIN:VCALENDAR
VERSION:2.0
PRODID:-//ChamberMaster//Event Calendar 2.0//EN
METHOD:PUBLISH
X-PUBLISHED-TTL:P3D
REFRESH-INTERVAL:P3D
CALSCALE:GREGORIAN
BEGIN:VEVENT
DTSTART:20190518T000000Z
DTEND:20190518T040000Z
X-MICROSOFT-CDO-ALLDAYEVENT:FALSE
SUMMARY:Basic Mediation Training - Part 1
DESCRIPTION:Part 1 of 2- For completion of event\, you must attend both weekends!\n\n#1: May 17-19\n\n#2: May 31-June 2\n\n\n\nThe Wenatchee Valley Dispute Resolution Center offers a Resolution Washington and Washington Mediation Association-approved 40-hour Basic Mediation Training course. This course teaches the process of mediation\, communication skills\, and conflict dynamics to promote peaceful and constructive approaches to conflict and its resolution\, whether in the workplace\, home\, or in our community. This course will explore skills that can be used in all aspects of your life. Trainees who have completed the BMT course are eligible to begin a mediation practicum to become a certified volunteer mediator with the WVDRC.
X-ALT-DESC;FMTTYPE=text/html:Part 1 of 2- For completion of event\, you must attend both weekends!<br />\n#1: May 17-19<br />\n#2: May 31-June 2<br />\n<br />\nThe Wenatchee Valley Dispute Resolution Center offers a Resolution Washington and Washington Mediation Association-approved 40-hour Basic Mediation Training course. This course teaches the process of mediation\, communication skills\, and conflict dynamics to promote peaceful and constructive approaches to conflict and its resolution\, whether in the workplace\, home\, or in our community. This course will explore skills that can be used in all aspects of your life. Trainees who have completed the BMT course are eligible to begin a mediation practicum to become a certified volunteer mediator with the WVDRC.
LOCATION:Wenatchee Valley Dispute Resolution Center 14 N. Mission Street Wenatchee\, Washington
UID:e.289.7226
SEQUENCE:3
DTSTAMP:20260425T195509Z
URL:https://business.wenatchee.org/events/details/basic-mediation-training-part-1-7226
END:VEVENT

END:VCALENDAR
