BEGIN:VCALENDAR
VERSION:2.0
PRODID:-//ChamberMaster//Event Calendar 2.0//EN
METHOD:PUBLISH
X-PUBLISHED-TTL:P3D
REFRESH-INTERVAL:P3D
CALSCALE:GREGORIAN
BEGIN:VEVENT
DTSTART:20190922T000000Z
DTEND:20190922T030000Z
X-MICROSOFT-CDO-ALLDAYEVENT:FALSE
SUMMARY:Bacon\, Bourbon\, Bluegrass & Brews
DESCRIPTION:Gather at the Wenatchee Valley Museum & Cultural Center for Bacon\, Bourbon\, Bluegrass & Brews on Saturday\, September 21 from 5:00 to 8:00 PM. It's Museum Day and we are celebrating the Year of Music with an enticing blend of bourbon\, bacon\, and brews. Featuring live music from Killdeer String Band and Chumlilies\, this exhilarating event will raise money for the Museum. All ticket holders will receive 4 tasting tickets and 2 full pour tokens. The first 125 ticket holders will receive a commemorative tasting glass. Samples of bacon and pork appetizers are included in the ticket price.
X-ALT-DESC;FMTTYPE=text/html:Gather at the Wenatchee Valley Museum &amp\; Cultural Center for Bacon\, Bourbon\, Bluegrass &amp\; Brews on Saturday\, September 21 from 5:00 to 8:00 PM. It&rsquo\;s Museum Day and we are celebrating the Year of Music with an enticing blend of bourbon\, bacon\, and brews. Featuring live music from Killdeer String Band and Chumlilies\, this exhilarating event will raise money for the Museum. All ticket holders will receive 4 tasting tickets and 2 full pour tokens. The first 125 ticket holders will receive a commemorative tasting glass. Samples of bacon and pork appetizers are included in the ticket price.
LOCATION:Wenatchee Valley Museum & Cultural Center
UID:e.289.7434
SEQUENCE:3
DTSTAMP:20260425T133102Z
URL:https://business.wenatchee.org/events/details/bacon-bourbon-bluegrass-brews-7434
END:VEVENT

END:VCALENDAR
