BEGIN:VCALENDAR
VERSION:2.0
PRODID:-//ChamberMaster//Event Calendar 2.0//EN
METHOD:PUBLISH
X-PUBLISHED-TTL:P3D
REFRESH-INTERVAL:P3D
CALSCALE:GREGORIAN
BEGIN:VEVENT
DTSTART:20190908T163000Z
DTEND:20190908T193000Z
X-MICROSOFT-CDO-ALLDAYEVENT:FALSE
SUMMARY:Back-To-Church Sunday
DESCRIPTION:
X-ALT-DESC;FMTTYPE=text/html:
LOCATION:
UID:e.289.7406
SEQUENCE:3
DTSTAMP:20260425T134454Z
URL:https://business.wenatchee.org/events/details/back-to-church-sunday-7406
END:VEVENT

END:VCALENDAR
