BEGIN:VCALENDAR
VERSION:2.0
PRODID:-//ChamberMaster//Event Calendar 2.0//EN
METHOD:PUBLISH
X-PUBLISHED-TTL:P3D
REFRESH-INTERVAL:P3D
CALSCALE:GREGORIAN
BEGIN:VEVENT
DTSTART:20200326T190000Z
DTEND:20200326T203000Z
X-MICROSOFT-CDO-ALLDAYEVENT:FALSE
SUMMARY:AVHRA Lunch & Learn - WA PFML
DESCRIPTION:WA PFML Panel Discussion "It's Here ... Now What??" Network and share lessons learned regarding WA's Paid Family & Medical Leave Law that started January 1\, 2020. AVHRA is hosting a Lunch & Learn panel discussion facilitated by Erin McCool of Ogden Murphy Wallace. Our panel will include Melissa Grimm of CrunchPak\, Tracy Hazen of Blue Star Growers and Lorna Klemanski from the Chelan PUD. They will share some of the top questions they have fielded recently and share some of the issues and lessons learned thus far. Bring your questions and insights for the panel and join us as we learn from each other on this topic and other HR challenges! Lunch is included with your registration fee.
X-ALT-DESC;FMTTYPE=text/html:WA PFML Panel Discussion &quot\;It&#39\;s Here ... Now What??&quot\; Network and share lessons learned regarding WA&#39\;s Paid Family &amp\; Medical Leave Law that started January 1\, 2020. AVHRA is hosting a Lunch &amp\; Learn panel discussion facilitated by Erin McCool of Ogden Murphy Wallace. Our panel will include Melissa Grimm of CrunchPak\, Tracy Hazen of Blue Star Growers and Lorna Klemanski from the Chelan PUD. They will share some of the top questions they have fielded recently and share some of the issues and lessons learned thus far. Bring your questions and insights for the panel and join us as we learn from each other on this topic and other HR challenges! Lunch is included with your registration fee.
LOCATION:North Central Education Services 430 Olds Station Road Wenatchee\, WA 98801
UID:e.289.7696
SEQUENCE:3
DTSTAMP:20260425T033309Z
URL:https://business.wenatchee.org/events/details/avhra-lunch-learn-wa-pfml-7696
END:VEVENT

END:VCALENDAR
