BEGIN:VCALENDAR
VERSION:2.0
PRODID:-//ChamberMaster//Event Calendar 2.0//EN
METHOD:PUBLISH
X-PUBLISHED-TTL:P3D
REFRESH-INTERVAL:P3D
CALSCALE:GREGORIAN
BEGIN:VEVENT
DTSTART:20201210T170000Z
DTEND:20201210T200000Z
X-MICROSOFT-CDO-ALLDAYEVENT:FALSE
SUMMARY:AVHRA 2020 Virtual Employment Law Summit
DESCRIPTION:Join the Join the "virtual" Apple Valley Human Resource Association (AVHRA) Annual Employment Law Summit via Zoom! Topics include the 2021 Ogden Murphy Wallace Employment Law Update and Background Screening: Protecting Your Organization from FCRA Litigation. Registration is required to get the Zoom Link. Register here: https://www.eventbrite.com/e/avhras-employment-law-summit-2020-tickets-125685999207
X-ALT-DESC;FMTTYPE=text/html:Join the Join the &ldquo\;virtual&rdquo\; Apple Valley Human Resource Association (AVHRA) Annual Employment Law Summit via Zoom! Topics include the 2021 Ogden Murphy Wallace Employment Law Update and Background Screening: Protecting Your Organization from FCRA Litigation. Registration is required to get the Zoom Link. Register here: https://www.eventbrite.com/e/avhras-employment-law-summit-2020-tickets-125685999207
LOCATION:Zoom Event
UID:e.289.7780
SEQUENCE:3
DTSTAMP:20260424T123204Z
URL:https://business.wenatchee.org/events/details/avhra-2020-virtual-employment-law-summit-7780
END:VEVENT

END:VCALENDAR
