BEGIN:VCALENDAR
VERSION:2.0
PRODID:-//ChamberMaster//Event Calendar 2.0//EN
METHOD:PUBLISH
X-PUBLISHED-TTL:P3D
REFRESH-INTERVAL:P3D
CALSCALE:GREGORIAN
BEGIN:VEVENT
DTSTART:20190315T003000Z
DTEND:20190315T020000Z
X-MICROSOFT-CDO-ALLDAYEVENT:FALSE
SUMMARY:Australia Night with Down Under Answers
DESCRIPTION:What's Up Down Under?! Come Discover what's new and exciting in the lands Down Under at this fascination presentation lead by the leading specialist in travel to Australia and New Zealand. They'll share everything they know about the unique sights and culture - from Australia's majestic landscapes\, pristine beaches\, rich heritage and remarkable flora and fauna\, to New Zealand's unspoiled wilderness\, deep fjords\, lush rainforest\, steaming volcanoes and misty mountains.
X-ALT-DESC;FMTTYPE=text/html:What&#39\;s Up Down Under?! Come Discover what&#39\;s new and exciting in the lands Down Under at this fascination presentation lead by the leading specialist in travel to Australia and New Zealand. They&#39\;ll share everything they know about the unique sights and culture - from Australia&rsquo\;s majestic landscapes\, pristine beaches\, rich heritage and remarkable flora and fauna\, to New Zealand&#39\;s unspoiled wilderness\, deep fjords\, lush rainforest\, steaming volcanoes and misty mountains.
LOCATION:AAA Wenatchee Store 221 N Mission St. Wenatchee\, WA 98801
UID:e.289.7091
SEQUENCE:3
DTSTAMP:20260426T012241Z
URL:https://business.wenatchee.org/events/details/australia-night-with-down-under-answers-7091
END:VEVENT

END:VCALENDAR
