BEGIN:VCALENDAR
VERSION:2.0
PRODID:-//ChamberMaster//Event Calendar 2.0//EN
METHOD:PUBLISH
X-PUBLISHED-TTL:P3D
REFRESH-INTERVAL:P3D
CALSCALE:GREGORIAN
BEGIN:VEVENT
DTSTART:20190217T010000Z
DTEND:20190217T050000Z
X-MICROSOFT-CDO-ALLDAYEVENT:FALSE
SUMMARY:Auction for the Animals-Be the Hero
DESCRIPTION:Wenatchee Valley Humane Society presents a fun\, themed auction featuring dinner\, event-themed cocktails\, silent auction\, and entertaining live auction that features a variety of items including: experience trips\, travel packages\, culinary experiences\, sports memorabilia\, art and much more! Your sponsorship\, donated auction items\, and active attendance at this event help WVHS continue providing care for homeless animals and support for in need pets
X-ALT-DESC;FMTTYPE=text/html:Wenatchee Valley Humane Society presents a fun\, themed auction featuring dinner\, event-themed cocktails\, silent auction\, and entertaining live auction that features a variety of items including: experience trips\, travel packages\, culinary experiences\, sports memorabilia\, art and much more! Your sponsorship\, donated auction items\, and active attendance at this event help WVHS continue providing care for homeless animals and support for in need pets
LOCATION:Wenatchee Convention Center
UID:e.289.6897
SEQUENCE:3
DTSTAMP:20260426T010028Z
URL:https://business.wenatchee.org/events/details/auction-for-the-animals-be-the-hero-6897
END:VEVENT

END:VCALENDAR
