BEGIN:VCALENDAR
VERSION:2.0
PRODID:-//ChamberMaster//Event Calendar 2.0//EN
METHOD:PUBLISH
X-PUBLISHED-TTL:P3D
REFRESH-INTERVAL:P3D
CALSCALE:GREGORIAN
BEGIN:VEVENT
DTSTART:20190517T180000Z
DTEND:20190517T210000Z
X-MICROSOFT-CDO-ALLDAYEVENT:FALSE
SUMMARY:Armed Forces Day
DESCRIPTION:Armed Forces Day is a celebration of our armed forces retired and active duty.
X-ALT-DESC;FMTTYPE=text/html:Armed Forces Day is a celebration of our armed forces retired and active duty.
LOCATION:Wenatchee Valley College
UID:e.289.7213
SEQUENCE:3
DTSTAMP:20260425T200254Z
URL:https://business.wenatchee.org/events/details/armed-forces-day-05-17-2019-7213
END:VEVENT

END:VCALENDAR
