BEGIN:VCALENDAR
VERSION:2.0
PRODID:-//ChamberMaster//Event Calendar 2.0//EN
METHOD:PUBLISH
X-PUBLISHED-TTL:P3D
REFRESH-INTERVAL:P3D
CALSCALE:GREGORIAN
BEGIN:VEVENT
DTSTART;VALUE=DATE:20200418
DTEND;VALUE=DATE:20200419
TRANSP:TRANSPARENT
X-MICROSOFT-CDO-ALLDAYEVENT:TRUE
SUMMARY:Annual Recycle Event - Wenatchee POSTPONED
DESCRIPTION:
X-ALT-DESC;FMTTYPE=text/html:
LOCATION:1745 S Wenatchee Avenue\, Wenatchee\, WA 98801 (close to the Waste Management Transfer Station)
UID:e.289.7611
SEQUENCE:3
DTSTAMP:20260425T033444Z
URL:https://business.wenatchee.org/events/details/annual-recycle-event-wenatchee-postponed-7611
END:VEVENT

END:VCALENDAR
