BEGIN:VCALENDAR
VERSION:2.0
PRODID:-//ChamberMaster//Event Calendar 2.0//EN
METHOD:PUBLISH
X-PUBLISHED-TTL:P3D
REFRESH-INTERVAL:P3D
CALSCALE:GREGORIAN
BEGIN:VEVENT
DTSTART:20190211T180000Z
DTEND:20190211T220000Z
X-MICROSOFT-CDO-ALLDAYEVENT:FALSE
SUMMARY:Annual NCW Regional Tourism Summit
DESCRIPTION:The focus of the summit is on Tourism Sustainability: sustaining what we have\; integrating sustainable practices into what we have and can develop\; and leveraging investments to grow tourism products in our region.\n\nThe Summit features presenters and workshops with the Okanogan County Tourism Council\, the Leavenworth Chamber of Commerce\, the Economic Alliance of Okanogan County\, the Wenatchee Valley College Center for Entrepreneurship\, the Washington Department of Commerce\, and our Canadian partners from the Thompson Okanagan Tourism Association.\n\nRegistration includes a catered lunch by Ravenous Catering.\n\nThe agenda includes:\n\n\n	\n	The latest news from the Route 97 Road Trip Touring Partnership\n	\n	\n	An orientation to the Biosphere Designation for Tourism Sustainability\n	\n	\n	Workshops on: Growing your business with regional marketing assets\; developing tourism businesses\; and improving the environmental impact of your tourism operation.
X-ALT-DESC;FMTTYPE=text/html:<p style="font-family: proxima-nova\; font-size: 15px\; line-height: 1.6em\; letter-spacing: 0.3px\; margin: 24px 0px\; overflow-wrap: break-word\; color: rgb(68\, 68\, 68)\; white-space: pre-wrap\;">&nbsp\;The focus of the summit is on <strong style="overflow-wrap: break-word\;">Tourism Sustainability</strong>: sustaining what we have\; integrating sustainable practices into what we have and can develop\; and leveraging investments to grow tourism products in our region.</p>\n\n<p style="font-family: proxima-nova\; font-size: 15px\; line-height: 1.6em\; letter-spacing: 0.3px\; margin: 24px 0px\; overflow-wrap: break-word\; color: rgb(68\, 68\, 68)\; white-space: pre-wrap\;">The Summit features presenters and workshops with the&nbsp\;<a href="https://www.okanogancountry.com/" style="color: rgb(14\, 73\, 236)\; text-decoration-line: none\; overflow-wrap: break-word\;" target="_blank">Okanogan County Tourism Council</a>\, the<a href="https://leavenworth.org/organizer/leavenworth-chamber-of-commerce/" style="color: rgb(14\, 73\, 236)\; text-decoration-line: none\; overflow-wrap: break-word\;" target="_blank">&nbsp\;Leavenworth Chamber of Commerce</a>\, the&nbsp\;<a href="http://www.economic-alliance.com/" style="color: rgb(14\, 73\, 236)\; text-decoration-line: none\; overflow-wrap: break-word\;" target="_blank">Economic Alliance of Okanogan County</a>\, the&nbsp\;<a href="https://www.wvc.edu/academics/entrepreneurship/" style="color: rgb(14\, 73\, 236)\; text-decoration-line: none\; overflow-wrap: break-word\;" target="_blank">Wenatchee Valley College Center for Entrepreneurship</a>\, the&nbsp\;<a href="https://www.commerce.wa.gov/serving-communities/serving-rural-communities/" style="color: rgb(14\, 73\, 236)\; text-decoration-line: none\; overflow-wrap: break-word\;" target="_blank">Washington Department of Commerce</a>\, and our Canadian partners from the&nbsp\;<a href="https://totabc.org/programs/route-97/" style="color: rgb(14\, 73\, 236)\; text-decoration-line: none\; overflow-wrap: break-word\;" target="_blank">Thompson Okanagan Tourism Association</a>.</p>\n\n<p style="font-family: proxima-nova\; font-size: 15px\; line-height: 1.6em\; letter-spacing: 0.3px\; margin: 24px 0px\; overflow-wrap: break-word\; color: rgb(68\, 68\, 68)\; white-space: pre-wrap\;">Registration includes a catered lunch by Ravenous Catering.</p>\n\n<p style="font-family: proxima-nova\; font-size: 15px\; line-height: 1.6em\; letter-spacing: 0.3px\; margin: 24px 0px\; overflow-wrap: break-word\; color: rgb(68\, 68\, 68)\; white-space: pre-wrap\;">The agenda includes:</p>\n\n<ul data-rte-list="default" style="margin: 1em 0px 24px\; padding-right: 0px\; font-family: proxima-nova\; font-size: 15px\; line-height: 1.6em\; letter-spacing: 0.3px\; overflow-wrap: break-word\; color: rgb(68\, 68\, 68)\;">\n	<li style="list-style-type: none\; overflow-wrap: break-word\;">\n	<p style="line-height: 1.6em\; letter-spacing: 0.02em\; margin: 0.5em 0px\; overflow-wrap: break-word\; white-space: pre-wrap\;">The latest news from the&nbsp\;<a href="https://route97.net/" style="color: rgb(14\, 73\, 236)\; text-decoration-line: none\; overflow-wrap: break-word\;" target="_blank">Route 97 Road Trip Touring Partnership</a></p>\n	</li>\n	<li style="list-style-type: none\; overflow-wrap: break-word\;">\n	<p style="line-height: 1.6em\; letter-spacing: 0.02em\; margin: 0.5em 0px\; overflow-wrap: break-word\; white-space: pre-wrap\;">An orientation to the&nbsp\;<a href="https://www.biospheretourism.com/en/biosphere-certification-standards/99" style="color: rgb(14\, 73\, 236)\; text-decoration-line: none\; overflow-wrap: break-word\;" target="_blank">Biosphere Designation for Tourism Sustainability</a></p>\n	</li>\n	<li style="list-style-type: none\; overflow-wrap: break-word\;">\n	<p style="line-height: 1.6em\; letter-spacing: 0.02em\; margin: 0.5em 0px\; overflow-wrap: break-word\; white-space: pre-wrap\;">Workshops on: Growing your business with regional marketing assets\; developing tourism businesses\; and improving the environmental impact of your tourism operation.</p>\n	</li>\n</ul>\n
LOCATION:Confluence Technology Center285 Technology Center Way Wenatchee\, WA 98801
UID:e.289.7102
SEQUENCE:3
DTSTAMP:20260426T010030Z
URL:https://business.wenatchee.org/events/details/annual-ncw-regional-tourism-summit-7102
END:VEVENT

END:VCALENDAR
