BEGIN:VCALENDAR
VERSION:2.0
PRODID:-//ChamberMaster//Event Calendar 2.0//EN
METHOD:PUBLISH
X-PUBLISHED-TTL:P3D
REFRESH-INTERVAL:P3D
CALSCALE:GREGORIAN
BEGIN:VEVENT
DTSTART:20190914T230000Z
DTEND:20190915T020000Z
X-MICROSOFT-CDO-ALLDAYEVENT:FALSE
SUMMARY:Annual Harvest BBQ at Rocky Pond Winery
DESCRIPTION:2019 Harvest BBQ ?David and Michelle Dufenhorst\, and winemaker Shane Collins\, invite you to the 2019 Harvest Barbecue at The Pond. Race a canoe on The Pond\, crush grapes like an old-school winemaker\, or just dance the night away to the sounds of the Loose Change! Enjoy gourmet barbecue faire from Son of a Brisket. Tickets on sale on our website\, on App\, by phone\, and in our tasting rooms. Club Members $40.00 / General $55.00 Tickets are available for purchase in advance until Sat. Sept 7th. Tickets are transferable\, but non-refundable.
X-ALT-DESC;FMTTYPE=text/html:2019 Harvest BBQ ?David and Michelle Dufenhorst\, and winemaker Shane Collins\, invite you to the 2019 Harvest Barbecue at The Pond. Race a canoe on The Pond\, crush grapes like an old-school winemaker\, or just dance the night away to the sounds of the Loose Change! Enjoy gourmet barbecue faire from Son of a Brisket. Tickets on sale on our website\, on App\, by phone\, and in our tasting rooms. Club Members $40.00 / General $55.00 Tickets are available for purchase in advance until Sat. Sept 7th. Tickets are transferable\, but non-refundable.
LOCATION:The Pond: HWY 97 & Sandy Shores Dr. Orondo\, WA 98843
UID:e.289.7424
SEQUENCE:3
DTSTAMP:20260425T134606Z
URL:https://business.wenatchee.org/events/details/annual-harvest-bbq-at-rocky-pond-winery-7424
END:VEVENT

END:VCALENDAR
