BEGIN:VCALENDAR
VERSION:2.0
PRODID:-//ChamberMaster//Event Calendar 2.0//EN
METHOD:PUBLISH
X-PUBLISHED-TTL:P3D
REFRESH-INTERVAL:P3D
CALSCALE:GREGORIAN
BEGIN:VEVENT
DTSTART:20190317T003000Z
DTEND:20190317T040000Z
X-MICROSOFT-CDO-ALLDAYEVENT:FALSE
SUMMARY:Annual Benefit Dinner & Dessert Dash
DESCRIPTION:Catholic Charities' St. Patrick's Day-themed annual fundraiser at Wenatchee's St. Joseph Catholic Church is set for March 16\, 2019 at 5:30 p.m. Funds raised at this event will help low-income elders and adults with disabilities through our Volunteer Services program by supporting the important work of caring volunteers - helping elders and adults with disabilities to continue to live independently\, safely\, and with dignity in their own homes. Catholic Charities volunteers help with minor home repairs\, yard work\, wheelchair ramps\, transportation\, light housekeeping\, grocery shopping\, and more\; they receive training\, encouragement\, and support from our staff\, as they use their skills and talents to help others. Guests at the fundraiser can enjoy the social hour\, dinner\, and decadent desserts while supporting elders and adults with disabilities. Individual seats ($50) or tables of 10 ($500) are available. Call 800.246.2962\, ext. 1133 for more information\, to purchase seats\, or to make a donation.
X-ALT-DESC;FMTTYPE=text/html:Catholic Charities&rsquo\; St. Patrick&rsquo\;s Day-themed annual fundraiser at Wenatchee&rsquo\;s St. Joseph Catholic Church is set for March 16\, 2019 at 5:30 p.m. Funds raised at this event will help low-income elders and adults with disabilities through our Volunteer Services program by supporting the important work of caring volunteers - helping elders and adults with disabilities to continue to live independently\, safely\, and with dignity in their own homes. Catholic Charities volunteers help with minor home repairs\, yard work\, wheelchair ramps\, transportation\, light housekeeping\, grocery shopping\, and more\; they receive training\, encouragement\, and support from our staff\, as they use their skills and talents to help others. Guests at the fundraiser can enjoy the social hour\, dinner\, and decadent desserts while supporting elders and adults with disabilities. Individual seats ($50) or tables of 10 ($500) are available. Call 800.246.2962\, ext. 1133 for more information\, to purchase seats\, or to make a donation.
LOCATION:St. Joseph's Catholic Church\, Kuykendall Hall\, 625 S. Elliot Ave.\, Wenatchee
UID:e.289.7171
SEQUENCE:3
DTSTAMP:20260426T011818Z
URL:https://business.wenatchee.org/events/details/annual-benefit-dinner-dessert-dash-7171
END:VEVENT

END:VCALENDAR
