BEGIN:VCALENDAR
VERSION:2.0
PRODID:-//ChamberMaster//Event Calendar 2.0//EN
METHOD:PUBLISH
X-PUBLISHED-TTL:P3D
REFRESH-INTERVAL:P3D
CALSCALE:GREGORIAN
BEGIN:VEVENT
DTSTART:20190322T003000Z
DTEND:20190322T040000Z
X-MICROSOFT-CDO-ALLDAYEVENT:FALSE
SUMMARY:Annual Banquet - Wenatchee Valley Chamber of Commerce
DESCRIPTION:Theme: Spirit of Wenatchee\n\n\n\nThe Spirit of Wenatchee lives in all of us so let's show our community spirit and celebrate together at the Wenatchee Valley Chamber of Commerce's Annual Banquet. Featured at the event is the presentation of the Business of the Year and Non-profit of the Year awards.\n\n\n\nThe decorated tables are always a sense of pride for our table sponsors and each guest is sure to walk away with a small gift.  Who will win the Best Decorated Table Award?  With 600 guests\, you're sure to connect with friends from the past and meet someone new too.  Don't forget about the silent auction as this is the only fundriaser for the Chamber to support the programs and services provided to the community.  If you can't be there\, don't worry\, you can still participate in the Online auction and win some great items provided by the Chamber's members.\n\n\n\nIf you are interested in sponsoring a table\, please call or email Christi\, 509-662-2116 / christi@wenatchee.org\n\n\n\nDoors open at 5:30pm for social hour\n\nDinner at 6:30pm\, followed by program including Business of the Year and Non-profit of the Year awards
X-ALT-DESC;FMTTYPE=text/html:Theme: <em><strong>Spirit of Wenatchee</strong></em><br />\n<br />\nThe Spirit of Wenatchee lives in all of us so let&#39\;s show our community spirit and celebrate together at the Wenatchee Valley Chamber of Commerce&#39\;s <strong>Annual Banquet</strong>. Featured at the event is the presentation of the Business of the Year and Non-profit of the Year awards.<br />\n<br />\nThe decorated tables are always a sense of pride for our table sponsors and each guest is sure to walk away with a small gift.&nbsp\; Who will win the Best Decorated Table Award?&nbsp\; With 600 guests\, you&#39\;re sure to connect with friends from the past and meet someone new too.&nbsp\; Don&#39\;t forget about the silent auction as this is the only fundriaser for the Chamber to support the programs and services provided to the community.&nbsp\; If you can&#39\;t be there\, don&#39\;t worry\, you can still participate in the Online auction and win some great items provided by the Chamber&#39\;s members.<br />\n<br />\nIf you are interested in sponsoring a table\, please call or email Christi\, 509-662-2116 / christi@wenatchee.org<br />\n<br />\nDoors open at 5:30pm for social hour<br />\nDinner at 6:30pm\, followed by program including Business of the Year and Non-profit of the Year awards
LOCATION:Wenatchee Convention Center 121 N. Wenatchee Ave
UID:e.289.6856
SEQUENCE:3
DTSTAMP:20260425T233159Z
URL:https://business.wenatchee.org/events/details/annual-banquet-wenatchee-valley-chamber-of-commerce-6856
END:VEVENT

END:VCALENDAR
