BEGIN:VCALENDAR
VERSION:2.0
PRODID:-//ChamberMaster//Event Calendar 2.0//EN
METHOD:PUBLISH
X-PUBLISHED-TTL:P3D
REFRESH-INTERVAL:P3D
CALSCALE:GREGORIAN
BEGIN:VEVENT
DTSTART:20190413T020000Z
DTEND:20190413T033000Z
X-MICROSOFT-CDO-ALLDAYEVENT:FALSE
SUMMARY:An evening with the author of "Educated"
DESCRIPTION:Join us for this FREE event to hear the author of Educated\, a memoir\, Tara Westover. For more information check out: ncrl.org/ncrlreads
X-ALT-DESC;FMTTYPE=text/html:Join us for this FREE event to hear the author of Educated\, a memoir\, Tara Westover. For more information check out: ncrl.org/ncrlreads&nbsp\;&nbsp\;
LOCATION:Wenatchee High School Auditorium - because of the size of the space. This event is open to all and is free with no reserved seating.
UID:e.289.7202
SEQUENCE:3
DTSTAMP:20260425T232849Z
URL:https://business.wenatchee.org/events/details/an-evening-with-the-author-of-educated-7202
END:VEVENT

END:VCALENDAR
