BEGIN:VCALENDAR
VERSION:2.0
PRODID:-//ChamberMaster//Event Calendar 2.0//EN
METHOD:PUBLISH
X-PUBLISHED-TTL:P3D
REFRESH-INTERVAL:P3D
CALSCALE:GREGORIAN
BEGIN:VEVENT
DTSTART:20190516T010000Z
DTEND:20190516T023000Z
X-MICROSOFT-CDO-ALLDAYEVENT:FALSE
SUMMARY:An Evening with the Auditors
DESCRIPTION:Chelan And Douglas County Auditors will explain recent changes to our state's voter laws\, including the presidential primary and city of Wenatchee's change to 5 geographical districts. If you would like an emailed copy of the event flyer\, email me at: mjcarnes45@gmail.com\n\n\n\nThis eductional event is sponsored by the Chelan Douglas County Republican Women and is open to the public.
X-ALT-DESC;FMTTYPE=text/html:Chelan And Douglas County Auditors will explain recent changes to our state&#39\;s voter laws\, including the presidential primary and city of Wenatchee&#39\;s change to 5 geographical districts. If you would like an emailed copy of the event flyer\, email me at: mjcarnes45@gmail.com<br />\n<br />\nThis eductional event is sponsored by the Chelan Douglas County Republican Women and is open to the public.
LOCATION:Masonic Lodge 811 N. Chelan Ave. Wenatchee\, Wa
UID:e.289.7272
SEQUENCE:3
DTSTAMP:20260425T200356Z
URL:https://business.wenatchee.org/events/details/an-evening-with-the-auditors-7272
END:VEVENT

END:VCALENDAR
