BEGIN:VCALENDAR
VERSION:2.0
PRODID:-//ChamberMaster//Event Calendar 2.0//EN
METHOD:PUBLISH
X-PUBLISHED-TTL:P3D
REFRESH-INTERVAL:P3D
CALSCALE:GREGORIAN
BEGIN:VEVENT
DTSTART:20191025T013000Z
DTEND:20191025T030000Z
X-MICROSOFT-CDO-ALLDAYEVENT:FALSE
SUMMARY:An Evening with Robin Benway
DESCRIPTION:Hear award winning author\, Robin Benway\, speak about her novel Far from the Tree. Q&A and book signing to follow. This event is free and open to the public. North Central Regional Library (NCRL) presents NCRL Reads every year featuring a fall YA author residency and a spring author program for the whole community. This fall\, NCRL is hosting Robin Benway\, author of the 2017 National Book Award winning novel\, Far from the Tree\, for a community event that is free and open to the public\, for all ages. Join us at the NCRL Administrative Building (16 N. Columbia Street) on Thursday\, October 24 at 6:30PM for this event. Robin Benway will present about her novel followed by a Q&A and book signing. Learn more at www.ncrl.org/ncrlreads. "Benway writes with remarkable control and has the rare talent of almost vanishing as an author as she inhabits each character's perspective. Grace\, Maya\, and Joaquin leap off the page as living\, breathing teenagers\, individual down to their fingerprints. The novel is also a brilliant exercise in empathy." -The New York Times Through NCRL Reads\, our goal is to connect our communities through reading a book together that sparks conversations\, curiosity\, and learning.
X-ALT-DESC;FMTTYPE=text/html:Hear award winning author\, Robin Benway\, speak about her novel Far from the Tree. Q&amp\;A and book signing to follow. This event is free and open to the public. North Central Regional Library (NCRL) presents NCRL Reads every year featuring a fall YA author residency and a spring author program for the whole community. This fall\, NCRL is hosting Robin Benway\, author of the 2017 National Book Award winning novel\, Far from the Tree\, for a community event that is free and open to the public\, for all ages. Join us at the NCRL Administrative Building (16 N. Columbia Street) on Thursday\, October 24 at 6:30PM for this event. Robin Benway will present about her novel followed by a Q&amp\;A and book signing. Learn more at www.ncrl.org/ncrlreads. &quot\;Benway writes with remarkable control and has the rare talent of almost vanishing as an author as she inhabits each character&#39\;s perspective. Grace\, Maya\, and Joaquin leap off the page as living\, breathing teenagers\, individual down to their fingerprints. The novel is also a brilliant exercise in empathy.&quot\; -The New York Times Through NCRL Reads\, our goal is to connect our communities through reading a book together that sparks conversations\, curiosity\, and learning.
LOCATION:NCRL Administrative Building 16 N. Columbia Street Wenatchee\, WA 98801
UID:e.289.7496
SEQUENCE:3
DTSTAMP:20260425T134041Z
URL:https://business.wenatchee.org/events/details/an-evening-with-robin-benway-7496
END:VEVENT

END:VCALENDAR
