BEGIN:VCALENDAR
VERSION:2.0
PRODID:-//ChamberMaster//Event Calendar 2.0//EN
METHOD:PUBLISH
X-PUBLISHED-TTL:P3D
REFRESH-INTERVAL:P3D
CALSCALE:GREGORIAN
BEGIN:VEVENT
DTSTART:20191112T210000Z
DTEND:20191112T221500Z
X-MICROSOFT-CDO-ALLDAYEVENT:FALSE
SUMMARY:Alzheimer's Association Town Hall
DESCRIPTION:Learn more about federal and state legislation and public policy related to Alzheimer's and other dementia. After a presentation by a panel of experts\, there will be opportunity for public Q&A. Free to attend\, no registration required.
X-ALT-DESC;FMTTYPE=text/html:Learn more about federal and state legislation and public policy related to Alzheimer&rsquo\;s and other dementia. After a presentation by a panel of experts\, there will be opportunity for public Q&amp\;A. Free to attend\, no registration required.
LOCATION:Aging & Adult Care of Central Washington\, 50 Simon St. SE\, East Wenatchee\, WA 98802
UID:e.289.7493
SEQUENCE:3
DTSTAMP:20260425T102233Z
URL:https://business.wenatchee.org/events/details/alzheimer-s-association-town-hall-7493
END:VEVENT

END:VCALENDAR
