BEGIN:VCALENDAR
VERSION:2.0
PRODID:-//ChamberMaster//Event Calendar 2.0//EN
METHOD:PUBLISH
X-PUBLISHED-TTL:P3D
REFRESH-INTERVAL:P3D
CALSCALE:GREGORIAN
BEGIN:VEVENT
DTSTART:20190302T180000Z
DTEND:20190302T200000Z
X-MICROSOFT-CDO-ALLDAYEVENT:FALSE
SUMMARY:Alatheia Volunteer Orientation
DESCRIPTION:We are changing lives every day with the healing power of horses! We are seeking volunteers to join our team - Ages 13+ and NO Experience Needed. We Train You! Complete our online volunteer application at www.alatheiaridingcenter.com/volunteer and join us and our Volunteer Orientation training. "I volunteer at Alatheia because I love being a part of something great and bigger than myself"-Volunteer Abigail
X-ALT-DESC;FMTTYPE=text/html:We are changing lives every day with the healing power of horses! We are seeking volunteers to join our team - Ages 13+ and NO Experience Needed. We Train You! Complete our online volunteer application at www.alatheiaridingcenter.com/volunteer and join us and our Volunteer Orientation training. &quot\;I volunteer at Alatheia because I love being a part of something great and bigger than myself&quot\;-Volunteer Abigail
LOCATION:Alatheia Therapeutic Riding Center 2170 Sleepy Hollow Heights Wenatchee\, WA 98801
UID:e.289.7150
SEQUENCE:3
DTSTAMP:20260426T012532Z
URL:https://business.wenatchee.org/events/details/alatheia-volunteer-orientation-03-02-2019-7150
END:VEVENT

END:VCALENDAR
