BEGIN:VCALENDAR
VERSION:2.0
PRODID:-//ChamberMaster//Event Calendar 2.0//EN
METHOD:PUBLISH
X-PUBLISHED-TTL:P3D
REFRESH-INTERVAL:P3D
CALSCALE:GREGORIAN
BEGIN:VEVENT
DTSTART:20190727T013000Z
DTEND:20190727T050000Z
X-MICROSOFT-CDO-ALLDAYEVENT:FALSE
SUMMARY:Alatheia Little Black Dress Summer Party
DESCRIPTION:Don't miss the summer fundraising party of the year! Spend a girl's night out with the ladies of Alatheia and support a great cause at our 6th Annual Little Black Dress Summer Party! Grab your girlfriends\, dress to the nines\, and enjoy dinner\, drinks\, and dancing while discovering the magic of Alatheia Therapeutic Riding Center. Ladies Only\, 21 and over (unless with an adult). Tickets on sale May 10th at www.alatheiaridingcenter.com/LBD
X-ALT-DESC;FMTTYPE=text/html:Don&#39\;t miss the summer fundraising party of the year! Spend a girl&#39\;s night out with the ladies of Alatheia and support a great cause at our 6th Annual Little Black Dress Summer Party! Grab your girlfriends\, dress to the nines\, and enjoy dinner\, drinks\, and dancing while discovering the magic of Alatheia Therapeutic Riding Center. Ladies Only\, 21 and over (unless with an adult). Tickets on sale May 10th at www.alatheiaridingcenter.com/LBD
LOCATION:Wenatchee Convention Center
UID:e.289.7303
SEQUENCE:3
DTSTAMP:20260425T164506Z
URL:https://business.wenatchee.org/events/details/alatheia-little-black-dress-summer-party-7303
END:VEVENT

END:VCALENDAR
