BEGIN:VCALENDAR
VERSION:2.0
PRODID:-//ChamberMaster//Event Calendar 2.0//EN
METHOD:PUBLISH
X-PUBLISHED-TTL:P3D
REFRESH-INTERVAL:P3D
CALSCALE:GREGORIAN
BEGIN:VEVENT
DTSTART:20120226T040000Z
DTEND:20120226T060000Z
X-MICROSOFT-CDO-ALLDAYEVENT:FALSE
SUMMARY:Airport Way
DESCRIPTION:Airport Way is a self-acclaimed Island Rock band from Seattle\, Washington. Using combinations of Classic Rock\, Reggae\, and Indie-Pop influence\, Airport Way creates a live performance that reminds listeners of The Police and Sublime\, and that artist contemporaries recognize as conceptually adventurous. Overall\, the music delivers every listener the opportunity to tap\, sway\, and dance. \n\n- \n\nIdentified as a passionate approach to song writing\, Airport Way captures the sound of Death Cab\, Modest Mouse\, Lynyrd Skynrd\, the Black Keys\, and Led Zeppelin to achieve an expandable\, full bodied edge. All original compositions are then crowned with traditional bass lines and rhythm accents from the sound of DJ Shadow\, King Tubby\, Tribe Called Quest\, Primus\, and Bob Marley to engage a call and response between the band and the audience. That polyamorous relationship of musical influence gives Airport Way's Island Rock its justifiable roots. \n\n- \n\nWith their combined 25 years of experience in live performance\, Airport Way hardly handles themselves as the 17 month old project that they are. Building steadfast relationships outside the local industry and maintaining their loyal grass roots effort make Airport Way an emerging band worth the shared experience. Listeners accept Airport Way as a member of their local music scene without knowing that band mates Chris Burger\, Amos Morgan\, and John Paul perform from Seattle. This uniquely creative formula provides the same outcome whether heard at a house party\, jazz lounge\, local bar\, farmer's market\, or festival stage. The live Airport Way experience is meant to be familiar\, danceable\, and social fun.
X-ALT-DESC;FMTTYPE=text/html:<span style="color: rgb(51\, 51\, 51)\; font-family: 'Helvetica Neue'\, Helvetica\, Arial\, sans-serif\; line-height: 21px\; -webkit-text-size-adjust: none\; ">Airport Way is a self-acclaimed Island Rock band from Seattle\, Washington. Using combinations of Classic Rock\, Reggae\, and Indie-Pop influence\, Airport Way creates a live performance that reminds listeners of The Police and Sublime\, and that artist contemporaries recognize as conceptually adventurous. Overall\, the music delivers every listener the opportunity to tap\, sway\, and dance.&nbsp\;</span><br style="margin-top: 0px\; margin-right: 0px\; margin-bottom: 0px\; margin-left: 0px\; padding-top: 0px\; padding-right: 0px\; padding-bottom: 0px\; padding-left: 0px\; color: rgb(51\, 51\, 51)\; font-family: 'Helvetica Neue'\, Helvetica\, Arial\, sans-serif\; line-height: 21px\; -webkit-text-size-adjust: none\; " />\n<span style="color: rgb(51\, 51\, 51)\; font-family: 'Helvetica Neue'\, Helvetica\, Arial\, sans-serif\; line-height: 21px\; -webkit-text-size-adjust: none\; ">-&nbsp\;</span><br style="margin-top: 0px\; margin-right: 0px\; margin-bottom: 0px\; margin-left: 0px\; padding-top: 0px\; padding-right: 0px\; padding-bottom: 0px\; padding-left: 0px\; color: rgb(51\, 51\, 51)\; font-family: 'Helvetica Neue'\, Helvetica\, Arial\, sans-serif\; line-height: 21px\; -webkit-text-size-adjust: none\; " />\n<span style="color: rgb(51\, 51\, 51)\; font-family: 'Helvetica Neue'\, Helvetica\, Arial\, sans-serif\; line-height: 21px\; -webkit-text-size-adjust: none\; ">Identified as a passionate approach to song writing\, Airport Way captures the sound of Death Cab\, Modest Mouse\, Lynyrd Skynrd\, the Black Keys\, and Led Zeppelin to achieve an expandable\, full bodied edge. All original compositions are then crowned with traditional bass lines and rhythm accents from the sound of DJ Shadow\, King Tubby\, Tribe Called Quest\, Primus\, and Bob Marley to engage a call and response between the band and the audience. That polyamorous relationship of musical influence gives Airport Way&#39\;s Island Rock its justifiable roots.&nbsp\;</span><br style="margin-top: 0px\; margin-right: 0px\; margin-bottom: 0px\; margin-left: 0px\; padding-top: 0px\; padding-right: 0px\; padding-bottom: 0px\; padding-left: 0px\; color: rgb(51\, 51\, 51)\; font-family: 'Helvetica Neue'\, Helvetica\, Arial\, sans-serif\; line-height: 21px\; -webkit-text-size-adjust: none\; " />\n<span style="color: rgb(51\, 51\, 51)\; font-family: 'Helvetica Neue'\, Helvetica\, Arial\, sans-serif\; line-height: 21px\; -webkit-text-size-adjust: none\; ">-&nbsp\;</span><br style="margin-top: 0px\; margin-right: 0px\; margin-bottom: 0px\; margin-left: 0px\; padding-top: 0px\; padding-right: 0px\; padding-bottom: 0px\; padding-left: 0px\; color: rgb(51\, 51\, 51)\; font-family: 'Helvetica Neue'\, Helvetica\, Arial\, sans-serif\; line-height: 21px\; -webkit-text-size-adjust: none\; " />\n<span style="color: rgb(51\, 51\, 51)\; font-family: 'Helvetica Neue'\, Helvetica\, Arial\, sans-serif\; line-height: 21px\; -webkit-text-size-adjust: none\; ">With their combined 25 years of experience in live performance\, Airport Way hardly handles themselves as the 17 month old project that they are. Building steadfast relationships outside the local industry and maintaining their loyal grass roots effort make Airport Way an emerging band worth the shared experience. Listeners accept Airport Way as a member of their local music scene without knowing that band mates Chris Burger\, Amos Morgan\, and John Paul perform from Seattle. This uniquely creative formula provides the same outcome whether heard at a house party\, jazz lounge\, local bar\, farmer&#39\;s market\, or festival stage. The live Airport Way experience is meant to be familiar\, danceable\, and social fun.</span>
LOCATION:Caffe Mela\, 17 N. Wenatchee Ave.
UID:e.289.1033
SEQUENCE:3
DTSTAMP:20260425T035046Z
URL:https://business.wenatchee.org/events/details/airport-way-02-25-2012-1033
END:VEVENT

END:VCALENDAR
