BEGIN:VCALENDAR
VERSION:2.0
PRODID:-//ChamberMaster//Event Calendar 2.0//EN
METHOD:PUBLISH
X-PUBLISHED-TTL:P3D
REFRESH-INTERVAL:P3D
CALSCALE:GREGORIAN
BEGIN:VEVENT
DTSTART:20240228T160000Z
DTEND:20240229T000000Z
X-MICROSOFT-CDO-ALLDAYEVENT:FALSE
SUMMARY:Agriculture Safety Day
DESCRIPTION:Join us for Washington's largest agriculture safety training event! Sessions presented in English and Spanish. Certification credits available for select sessions. Other topics include outdoor heat exposure updates\, forklift and tractor safety\, leadership\, emergency response\, ergonomics\, mental health\, and more. Registration - $75/Group Discount - $65. Lunch and snacks for breaks provided.\n\n\n\n   nase a nosotros para el evento m s grande de capacitaci n de seguridad en la agricultura! Sesiones presentadas en ingl s y espa ol. Cr ditos para aplicador de sesiones selectas. Otros temas incluyen: actualizaciones sobre la exposici n al calor\, seguridad en tractores y montecargas (forklift)\, intervenci n de emergencia\, salud emocional\, y m s. Matr cula: $75/Descuento para grupos $65. Incluye comida y aperitivos en los descansos.
X-ALT-DESC;FMTTYPE=text/html:Join us for Washington&#39\;s largest agriculture safety training event! Sessions presented in English and Spanish. Certification credits available for select sessions. Other topics include outdoor heat exposure updates\, forklift and tractor safety\, leadership\, emergency response\, ergonomics\, mental health\, and more. Registration - $75/Group Discount - $65. Lunch and snacks for breaks provided.<br />\n<br />\n&#8203\;&iexcl\;&Uacute\;nase a nosotros para el evento m&aacute\;s grande de capacitaci&oacute\;n de seguridad en la agricultura! Sesiones presentadas en ingl&eacute\;s y espa&ntilde\;ol. Cr&eacute\;ditos para aplicador de sesiones selectas. Otros temas incluyen: actualizaciones sobre la exposici&oacute\;n al calor\, seguridad en tractores y montecargas (forklift)\, intervenci&oacute\;n de emergencia\, salud emocional\, y m&aacute\;s. Matr&iacute\;cula: $75/Descuento para grupos $65. Incluye comida y aperitivos en los descansos.
LOCATION:Wenatchee Convention Center
UID:e.289.8728
SEQUENCE:3
DTSTAMP:20260421T062445Z
URL:https://business.wenatchee.org/events/details/agriculture-safety-day-8728
END:VEVENT

END:VCALENDAR
