BEGIN:VCALENDAR
VERSION:2.0
PRODID:-//ChamberMaster//Event Calendar 2.0//EN
METHOD:PUBLISH
X-PUBLISHED-TTL:P3D
REFRESH-INTERVAL:P3D
CALSCALE:GREGORIAN
BEGIN:VEVENT
DTSTART:20190419T191000Z
DTEND:20190419T203000Z
X-MICROSOFT-CDO-ALLDAYEVENT:FALSE
SUMMARY:Additional Insured for Contractors
DESCRIPTION:Additional Insured in all its many flavors affects General Contractors and Subcontractors alike. Do you have a good understanding of what the ramifications are and what you're giving away? This class will explain in plain English what the term means and why it's being asked for across the board. Come get your questions answered! This lunchtime class is a FREE presentation by insurance agent and Central Washington SCORE representative Yvette Davis.
X-ALT-DESC;FMTTYPE=text/html:Additional Insured in all its many flavors affects General Contractors and Subcontractors alike. Do you have a good understanding of what the ramifications are and what you&#39\;re giving away? This class will explain in plain English what the term means and why it&#39\;s being asked for across the board. Come get your questions answered! This lunchtime class is a FREE presentation by insurance agent and Central Washington SCORE representative Yvette Davis.
LOCATION:1737 N Wenatchee Ave\, Wenatchee
UID:e.289.7232
SEQUENCE:3
DTSTAMP:20260425T213836Z
URL:https://business.wenatchee.org/events/details/additional-insured-for-contractors-04-19-2019-7232
END:VEVENT

END:VCALENDAR
