BEGIN:VCALENDAR
VERSION:2.0
PRODID:-//ChamberMaster//Event Calendar 2.0//EN
METHOD:PUBLISH
X-PUBLISHED-TTL:P3D
REFRESH-INTERVAL:P3D
CALSCALE:GREGORIAN
BEGIN:VEVENT
DTSTART:20190325T153000Z
DTEND:20190326T000000Z
X-MICROSOFT-CDO-ALLDAYEVENT:FALSE
SUMMARY:ACA Fundamentals of Angel Investing + Top Six Deep Dive
DESCRIPTION:You are invited to attend a training with the Flywheel Angel Network. This training is a two-part event. Any individual is welcome to attend the morning and lunch session\, the afternoon session will be limited to accredited investors only. The purpose of this workshop is to introduce accredited investors to angel investing. It is designed to bring the voices of many experienced practitioners to the audience via interviews and panel discussions. Experience with similar workshops has shown that entrepreneurs seeking angel capital also find this workshop valuable. ACA Fundamentals of Angel Investing + Top Six Deep Dive March 25 8:30am - 5:00pm $60 Morning Session Only\, $120 Full Day (afternoon session limited to accredited investors only) Schedule: 8:30am - 12:00pm: Angel Capital Association presents the Fundamentals of Angel Investing taught by Angela Jackson\, featuring guest angel investors from PNW Background on Angela 12:00 - 1:00pm: Networking and lunch by The Dilly Deli 1:00 - 5:00pm: Top Six Deep Dive --- 2019 Flywheel Conference Fund Investors will review due diligence on the top six companies competing at the Flywheel Investment Conference. In addition\, each company will call in and practice their pitch allowing investors to follow up with specific questions afterward. For guests attending this part of the day\, it's an opportunity to listen\, learn\, and find out if the 2020 Fund is a great option for you! Detailed agenda will be posted the first week of March. Registration closes on March 22.
X-ALT-DESC;FMTTYPE=text/html:You are invited to attend a training with the Flywheel Angel Network. This training is a two-part event. Any individual is welcome to attend the morning and lunch session\, the afternoon session will be limited to accredited investors only. The purpose of this workshop is to introduce accredited investors to angel investing. It is designed to bring the voices of many experienced practitioners to the audience via interviews and panel discussions. Experience with similar workshops has shown that entrepreneurs seeking angel capital also find this workshop valuable. ACA Fundamentals of Angel Investing + Top Six Deep Dive March 25 8:30am - 5:00pm $60 Morning Session Only\, $120 Full Day (afternoon session limited to accredited investors only) Schedule: 8:30am - 12:00pm: Angel Capital Association presents the Fundamentals of Angel Investing taught by Angela Jackson\, featuring guest angel investors from PNW Background on Angela 12:00 - 1:00pm: Networking and lunch by The Dilly Deli 1:00 - 5:00pm: Top Six Deep Dive --- 2019 Flywheel Conference Fund Investors will review due diligence on the top six companies competing at the Flywheel Investment Conference. In addition\, each company will call in and practice their pitch allowing investors to follow up with specific questions afterward. For guests attending this part of the day\, it&#39\;s an opportunity to listen\, learn\, and find out if the 2020 Fund is a great option for you! Detailed agenda will be posted the first week of March. Registration closes on March 22.
LOCATION:Confluence Technology Center 285 Technology Center Way Wenatchee\, WA 98801
UID:e.289.7166
SEQUENCE:3
DTSTAMP:20260426T012537Z
URL:https://business.wenatchee.org/events/details/aca-fundamentals-of-angel-investing-top-six-deep-dive-7166
END:VEVENT

END:VCALENDAR
